PDS_VERSION_ID = PDS3
RECORD_TYPE = FIXED_LENGTH
RECORD_BYTES = 33288
FILE_RECORDS = 32646
^IMAGE = "MDIS_BDR_256PPD_H13SW2.IMG"
/* Map-projected Basemap RDR Identification */
DATA_SET_ID = "MESS-H-MDIS-5-RDR-BDR-V1.0"
PRODUCT_ID = "MDIS_BDR_256PPD_H13SW2"
INSTRUMENT_HOST_NAME = "MESSENGER"
INSTRUMENT_NAME = {"MERCURY DUAL IMAGING SYSTEM NARROW ANGLE CAMERA", "MERCURY DUAL IMAGING SYSTEM WIDE ANGLE CAMERA"}
INSTRUMENT_ID = {"MDIS-NAC","MDIS-WAC"}
TARGET_NAME = MERCURY
PRODUCT_TYPE = MAP_PROJECTED_BDR
PRODUCT_CREATION_TIME = 2017-03-12T09:51:17.530
START_TIME = "N/A"
STOP_TIME = "N/A"
SPACECRAFT_CLOCK_START_COUNT = "N/A"
SPACECRAFT_CLOCK_STOP_COUNT = "N/A"
PRODUCT_VERSION_ID = "2"
PRODUCER_INSTITUTION_NAME = "APPLIED COHERENT TECHNOLOGY CORPORATION"
SOFTWARE_NAME = "PIPE_CREATE_MDIS_BDR"
SOFTWARE_VERSION_ID = "09.20.11"
OBJECT = IMAGE
  LINES = 5441
  LINE_SAMPLES = 8322
  SAMPLE_TYPE = PC_REAL
  SAMPLE_BITS = 32
  UNIT = "Reflectance"
  BANDS = 6
  BAND_NAME = ("REFLECTANCE 750NM", "OBSERVATION ID", "BDR METRIC", "SOLAR INCIDENCE ANGLE", "EMISSION ANGLE", "PHASE ANGLE")
  BAND_STORAGE_TYPE = BAND_SEQUENTIAL
  MISSING_CONSTANT = -3.4028226550889045e+38
END_OBJECT = IMAGE
/* Map projection information about this RDR is in the IMAGE_MAP_PROJECTION */
/* object below. */
OBJECT = IMAGE_MAP_PROJECTION
  ^DATA_SET_MAP_PROJECTION = "BDR_MAP.CAT"
  MAP_PROJECTION_TYPE = "EQUIRECTANGULAR"
  A_AXIS_RADIUS = 2439.4
  B_AXIS_RADIUS = 2439.4
  C_AXIS_RADIUS = 2439.4
  FIRST_STANDARD_PARALLEL = "N/A"
  SECOND_STANDARD_PARALLEL = "N/A"
  POSITIVE_LONGITUDE_DIRECTION = "EAST"
  CENTER_LATITUDE = -43.75
  CENTER_LONGITUDE = 112.50
  LINE_FIRST_PIXEL = 1
  LINE_LAST_PIXEL = 5441
  SAMPLE_FIRST_PIXEL = 1
  SAMPLE_LAST_PIXEL = 8322
  MAP_PROJECTION_ROTATION = 0.0
  MAP_RESOLUTION = 256
  MAP_SCALE = 166.310788
  MAXIMUM_LATITUDE = -43.750000
  MINIMUM_LATITUDE = -65.003906
  WESTERNMOST_LONGITUDE = 90.000000
  EASTERNMOST_LONGITUDE = 135.001985
  LINE_PROJECTION_OFFSET = -11199.500000
  SAMPLE_PROJECTION_OFFSET = 4161.316421
  COORDINATE_SYSTEM_TYPE = "BODY-FIXED ROTATING"
  COORDINATE_SYSTEM_NAME = "PLANETOCENTRIC"
END_OBJECT = IMAGE_MAP_PROJECTION
END
