PDS_VERSION_ID = PDS3
/* PRODUCT DESCRIPTION */
DATA_SET_ID = "CO-SSA-RADAR-5-BIDR-V1.0"
DATA_SET_NAME = "CASSINI ORBITER SSA RADAR 5 BIDR V1.0"
PRODUCER_INSTITUTION_NAME = "JET PROPULSION LABORATORY"
PRODUCER_ID = JPL
PRODUCER_FULL_NAME = "Inst Lead Charles Elachi contact Bryan Stiles"
PRODUCT_ID = BIXQI69S187_D211_T065S02_V03
PRODUCT_VERSION_ID = 03
INSTRUMENT_HOST_NAME = "CASSINI ORBITER"
INSTRUMENT_HOST_ID = CO
INSTRUMENT_NAME = "CASSINI RADAR"
INSTRUMENT_ID = RADAR
TARGET_NAME = TITAN
START_TIME = 2010-012T23:17:18.499
STOP_TIME = 2010-012T23:19:36.198
SPACECRAFT_CLOCK_START_COUNT = 1642032062
SPACECRAFT_CLOCK_STOP_COUNT = 1642032199
PRODUCT_CREATION_TIME = 2017-341T23:57:06.000
SOURCE_PRODUCT_ID = LBDR_10_D211_V03
MISSION_PHASE_NAME = TOUR
MISSION_NAME = "CASSINI-HUYGENS"
SOFTWARE_VERSION_ID = "V1.0"
/* DESCRIPTION OF COMPRESSED AND UNCOMPRESSED FILES */
OBJECT = COMPRESSED_FILE
  FILE_NAME = "BIXQI69S187_D211_T065S02_V03.ZIP"
  RECORD_TYPE = UNDEFINED
  ENCODING_TYPE = ZIP
  INTERCHANGE_FORMAT = BINARY
  UNCOMPRESSED_FILE_NAME = "BIXQI69S187_D211_T065S02_V03.IMG"
  REQUIRED_STORAGE_BYTES = 34088960
  ^DESCRIPTION = "SOFTWARE/SOFTINFO.TXT"
END_OBJECT = COMPRESSED_FILE
OBJECT = UNCOMPRESSED_FILE
  FILE_NAME = "BIXQI69S187_D211_T065S02_V03.IMG"
  RECORD_TYPE = FIXED_LENGTH
  RECORD_BYTES = 10240
  FILE_RECORDS = 3329
  LABEL_RECORDS = 1
  /* POINTERS TO START RECORDS OF OBJECTS IN FILE */
  ^IMAGE = ("BIXQI69S187_D211_T065S02_V03.IMG", 2)
  /* DESCRIPTION OF OBJECTS CONTAINED IN FILE */
  OBJECT = IMAGE
    LINES = 3328
    LINE_SAMPLES = 2560
    SAMPLE_TYPE = "PC_REAL"
    SAMPLE_BITS = 32
    CHECKSUM = 0
    SCALING_FACTOR = 1.00000000
    OFFSET = 0.00000000
    MISSING_CONSTANT = "16#FF7FFFFB#"
    NOTE = "The data values in this file are noise equivalent sigma-0 values associated with Synthetic Aperture Radar (SAR) normalized backscatter cross-section noise subtracted values w/o incidence angle correction. The values are physical scale (not in dB)."
  END_OBJECT = IMAGE
  OBJECT = IMAGE_MAP_PROJECTION
    ^DATA_SET_MAP_PROJECTION = "DSMAP.CAT"
    MAP_PROJECTION_TYPE = "OBLIQUE CYLINDRICAL"
    A_AXIS_RADIUS = 2575.000000
    B_AXIS_RADIUS = 2575.000000
    C_AXIS_RADIUS = 2575.000000
    FIRST_STANDARD_PARALLEL = "N/A"
    SECOND_STANDARD_PARALLEL = "N/A"
    POSITIVE_LONGITUDE_DIRECTION = WEST
    CENTER_LATITUDE = 0.000000
    CENTER_LONGITUDE = 0.000000
    REFERENCE_LATITUDE = -82.241302
    REFERENCE_LONGITUDE = 359.061059
    LINE_FIRST_PIXEL = 1
    LINE_LAST_PIXEL = 3328
    SAMPLE_FIRST_PIXEL = 1
    SAMPLE_LAST_PIXEL = 2560
    MAP_PROJECTION_ROTATION = 90.0
    MAP_RESOLUTION = 256.0
    MAP_SCALE = 0.17555558
    MAXIMUM_LATITUDE = -60.96066254
    MINIMUM_LATITUDE = -75.88134643
    EASTERNMOST_LONGITUDE = 165.19352633
    WESTERNMOST_LONGITUDE = 201.60667202
    LINE_PROJECTION_OFFSET = -5377.500
    SAMPLE_PROJECTION_OFFSET = 3839.500
    OBLIQUE_PROJ_POLE_LATITUDE = 3.501890
    OBLIQUE_PROJ_POLE_LONGITUDE = 295.750059
    OBLIQUE_PROJ_POLE_ROTATION = 353.072230
    OBLIQUE_PROJ_X_AXIS_VECTOR = ( 0.13498322, 0.00221225, -0.99084542 )
    OBLIQUE_PROJ_Y_AXIS_VECTOR = ( -0.89092101, 0.43791020, -0.12039276 )
    OBLIQUE_PROJ_Z_AXIS_VECTOR = ( 0.43363497, 0.89901600, 0.06108147 )
    LOOK_DIRECTION = LEFT
    COORDINATE_SYSTEM_TYPE = "BODY-FIXED ROTATING"
    COORDINATE_SYSTEM_NAME = "PLANETOGRAPHIC"
  END_OBJECT = IMAGE_MAP_PROJECTION
END_OBJECT = UNCOMPRESSED_FILE
END
