PDS_VERSION_ID = PDS3
/* PRODUCT DESCRIPTION */
DATA_SET_ID = "CO-SSA-RADAR-5-BIDR-V1.0"
DATA_SET_NAME = "CASSINI ORBITER SSA RADAR 5 BIDR V1.0"
PRODUCER_INSTITUTION_NAME = "U.S.G.S. FLAGSTAFF"
PRODUCER_ID = USGS
PRODUCER_FULL_NAME = "RANDOLPH L. KIRK"
PRODUCT_ID = "BIBQI73S187_D211_T065S04_V03"
PRODUCT_VERSION_ID = 03
INSTRUMENT_HOST_NAME = "CASSINI ORBITER"
INSTRUMENT_HOST_ID = CO
INSTRUMENT_NAME = "CASSINI RADAR"
INSTRUMENT_ID = RADAR
TARGET_NAME = TITAN
START_TIME = 2010-012T23:21:18.497
STOP_TIME = 2010-012T23:22:04.299
SPACECRAFT_CLOCK_START_COUNT = 1642032302
SPACECRAFT_CLOCK_STOP_COUNT = 1642032347
PRODUCT_CREATION_TIME = 2018-030T18:18:40.000
SOURCE_PRODUCT_ID = "LBDR_10_D211_V03"
MISSION_PHASE_NAME = TOUR
MISSION_NAME = "CASSINI-HUYGENS"
SOFTWARE_VERSION_ID = "V1.0"
/* DESCRIPTION OF COMPRESSED AND UNCOMPRESSED FILES */
OBJECT = COMPRESSED_FILE
  FILE_NAME = "BIBQI73S187_D211_T065S04_V03.ZIP"
  RECORD_TYPE = UNDEFINED
  ENCODING_TYPE = ZIP
  INTERCHANGE_FORMAT = BINARY
  UNCOMPRESSED_FILE_NAME = "BIBQI73S187_D211_T065S04_V03.IMG"
  REQUIRED_STORAGE_BYTES = 1972224
  ^DESCRIPTION = "SOFTWARE/SOFTINFO.TXT"
END_OBJECT = COMPRESSED_FILE
OBJECT = UNCOMPRESSED_FILE
  FILE_NAME = "BIBQI73S187_D211_T065S04_V03.IMG"
  RECORD_TYPE = FIXED_LENGTH
  RECORD_BYTES = 1536
  FILE_RECORDS = 1284
  LABEL_RECORDS = 4
  /* POINTERS TO START RECORDS OF OBJECTS IN FILE */
  ^IMAGE = ("BIBQI73S187_D211_T065S04_V03.IMG", 5)
  /* DESCRIPTION OF OBJECTS CONTAINED IN FILE */
  OBJECT = IMAGE
    LINES = 1280
    LINE_SAMPLES = 1536
    SAMPLE_TYPE = "UNSIGNED_INTEGER"
    SAMPLE_BITS = 8
    CHECKSUM = 1791919
    SCALING_FACTOR = 1.0000012E-01
    OFFSET = -2.0100010E+01
    MISSING_CONSTANT = 0
    NOTE = "The data values in this file are Synthetic Aperture Radar (SAR) normalized backscatter cross-section values in logarithmic form. The observed values have been corrected for incidence-angle effects and converted to decibels (db). The raw backscatter values have been multiplied by the function f(I), where I is the incidence angle and f(I) = 0.2907/(f1(I)+f2(I)+f3(I)), for f1(I)=2.8126*(cos(I)^4+893.9677*sin(I)^2)^(-1.5), f2(I)=0.5824*(cos(I)^4+34.1366*sin(I)^2)^(-1.5), and f3(I)=0.3767*cos(I)^1.9782. The corresponding decibel value is db = 10 log10 (cross-section * f(I)). The scaling between raw data number and db is specified by the SCALING_FACTOR and OFFSET."
  END_OBJECT = IMAGE
  OBJECT = IMAGE_MAP_PROJECTION
    ^DATA_SET_MAP_PROJECTION = "DSMAP.CAT"
    MAP_PROJECTION_TYPE = "OBLIQUE CYLINDRICAL"
    FIRST_STANDARD_PARALLEL = "N/A"
    SECOND_STANDARD_PARALLEL = "N/A"
    A_AXIS_RADIUS = 2575.000000
    B_AXIS_RADIUS = 2575.000000
    C_AXIS_RADIUS = 2575.000000
    POSITIVE_LONGITUDE_DIRECTION = WEST
    CENTER_LATITUDE = 0.000000
    CENTER_LONGITUDE = 0.000000
    REFERENCE_LATITUDE = -82.241302
    REFERENCE_LONGITUDE = 359.061059
    LINE_FIRST_PIXEL = 1
    LINE_LAST_PIXEL = 1280
    SAMPLE_FIRST_PIXEL = 1
    SAMPLE_LAST_PIXEL = 1536
    MAP_PROJECTION_ROTATION = 90.0
    MAP_RESOLUTION = 256.0
    MAP_SCALE = 0.17555558
    MAXIMUM_LATITUDE = -69.29990582
    MINIMUM_LATITUDE = -75.75448021
    EASTERNMOST_LONGITUDE = 173.59413586
    WESTERNMOST_LONGITUDE = 197.52755749
    LINE_PROJECTION_OFFSET = -5376.50000000
    SAMPLE_PROJECTION_OFFSET = 3071.50000000
    OBLIQUE_PROJ_POLE_LATITUDE = 3.501890
    OBLIQUE_PROJ_POLE_LONGITUDE = 295.750059
    OBLIQUE_PROJ_POLE_ROTATION = 353.072230
    OBLIQUE_PROJ_X_AXIS_VECTOR = (0.13498322,0.00221225,-0.99084542)
    OBLIQUE_PROJ_Y_AXIS_VECTOR = (-0.89092101,0.43791020,-0.12039276)
    OBLIQUE_PROJ_Z_AXIS_VECTOR = (0.43363497,0.89901600,0.06108147)
    LOOK_DIRECTION = LEFT
    COORDINATE_SYSTEM_NAME = "PLANETOGRAPHIC"
    COORDINATE_SYSTEM_TYPE = "BODY-FIXED ROTATING"
  END_OBJECT = IMAGE_MAP_PROJECTION
END_OBJECT = UNCOMPRESSED_FILE
END
