PDS_VERSION_ID = PDS3
/* PRODUCT DESCRIPTION */
DATA_SET_ID = "CO-SSA-RADAR-5-BIDR-V1.0"
DATA_SET_NAME = "CASSINI ORBITER SSA RADAR 5 BIDR V1.0"
PRODUCER_INSTITUTION_NAME = "JET PROPULSION LABORATORY"
PRODUCER_ID = JPL
PRODUCER_FULL_NAME = "Inst Lead Charles Elachi contact Bryan Stiles"
PRODUCT_ID = BIUQH72S104_D149_T036S03_V03
PRODUCT_VERSION_ID = 03
INSTRUMENT_HOST_NAME = "CASSINI ORBITER"
INSTRUMENT_HOST_ID = CO
INSTRUMENT_NAME = "CASSINI RADAR"
INSTRUMENT_ID = RADAR
TARGET_NAME = TITAN
START_TIME = 2007-275T04:37:25.139
STOP_TIME = 2007-275T04:48:00.476
SPACECRAFT_CLOCK_START_COUNT = 1569993158
SPACECRAFT_CLOCK_STOP_COUNT = 1569993793
PRODUCT_CREATION_TIME = 2017-340T20:05:17.000
SOURCE_PRODUCT_ID = LBDR_14_D149_V03
MISSION_PHASE_NAME = TOUR
MISSION_NAME = "CASSINI-HUYGENS"
SOFTWARE_VERSION_ID = "V1.0"
/* DESCRIPTION OF COMPRESSED AND UNCOMPRESSED FILES */
OBJECT = COMPRESSED_FILE
  FILE_NAME = "BIUQH72S104_D149_T036S03_V03.ZIP"
  RECORD_TYPE = UNDEFINED
  ENCODING_TYPE = ZIP
  INTERCHANGE_FORMAT = BINARY
  UNCOMPRESSED_FILE_NAME = "BIUQH72S104_D149_T036S03_V03.IMG"
  REQUIRED_STORAGE_BYTES = 77862400
  ^DESCRIPTION = "SOFTWARE/SOFTINFO.TXT"
END_OBJECT = COMPRESSED_FILE
OBJECT = UNCOMPRESSED_FILE
  FILE_NAME = "BIUQH72S104_D149_T036S03_V03.IMG"
  RECORD_TYPE = FIXED_LENGTH
  RECORD_BYTES = 5632
  FILE_RECORDS = 13825
  LABEL_RECORDS = 1
  /* POINTERS TO START RECORDS OF OBJECTS IN FILE */
  ^IMAGE = ("BIUQH72S104_D149_T036S03_V03.IMG", 2)
  /* DESCRIPTION OF OBJECTS CONTAINED IN FILE */
  OBJECT = IMAGE
    LINES = 13824
    LINE_SAMPLES = 1408
    SAMPLE_TYPE = "PC_REAL"
    SAMPLE_BITS = 32
    CHECKSUM = 0
    SCALING_FACTOR = 1.00000000
    OFFSET = 0.00000000
    MISSING_CONSTANT = "16#FF7FFFFB#"
    NOTE = "The data values in this file are Synthetic Aperture Radar (SAR) normalized backscatter cross-section values. The values are physical scale (not in dB) and have not been corrected for incidence-angle effects. Biases due to noise have not been removed."
  END_OBJECT = IMAGE
  OBJECT = IMAGE_MAP_PROJECTION
    ^DATA_SET_MAP_PROJECTION = "DSMAP.CAT"
    MAP_PROJECTION_TYPE = "OBLIQUE CYLINDRICAL"
    A_AXIS_RADIUS = 2575.000000
    B_AXIS_RADIUS = 2575.000000
    C_AXIS_RADIUS = 2575.000000
    FIRST_STANDARD_PARALLEL = "N/A"
    SECOND_STANDARD_PARALLEL = "N/A"
    POSITIVE_LONGITUDE_DIRECTION = WEST
    CENTER_LATITUDE = 0.000000
    CENTER_LONGITUDE = 0.000000
    REFERENCE_LATITUDE = -59.647584
    REFERENCE_LONGITUDE = 108.520014
    LINE_FIRST_PIXEL = 1
    LINE_LAST_PIXEL = 13824
    SAMPLE_FIRST_PIXEL = 1
    SAMPLE_LAST_PIXEL = 1408
    MAP_PROJECTION_ROTATION = 90.0
    MAP_RESOLUTION = 128.0
    MAP_SCALE = 0.35111116
    MAXIMUM_LATITUDE = -32.54827044
    MINIMUM_LATITUDE = -77.66752583
    EASTERNMOST_LONGITUDE = 20.94866693
    WESTERNMOST_LONGITUDE = 198.58861511
    LINE_PROJECTION_OFFSET = 7039.500
    SAMPLE_PROJECTION_OFFSET = -896.500
    OBLIQUE_PROJ_POLE_LATITUDE = -30.330521
    OBLIQUE_PROJ_POLE_LONGITUDE = 290.918612
    OBLIQUE_PROJ_POLE_ROTATION = 358.788211
    OBLIQUE_PROJ_X_AXIS_VECTOR = ( -0.16050690, -0.47914828, -0.86293364 )
    OBLIQUE_PROJ_Y_AXIS_VECTOR = ( -0.93769268, 0.34698596, -0.01825352 )
    OBLIQUE_PROJ_Z_AXIS_VECTOR = ( 0.30817200, 0.80623673, -0.50498747 )
    LOOK_DIRECTION = LEFT
    COORDINATE_SYSTEM_TYPE = "BODY-FIXED ROTATING"
    COORDINATE_SYSTEM_NAME = "PLANETOGRAPHIC"
  END_OBJECT = IMAGE_MAP_PROJECTION
END_OBJECT = UNCOMPRESSED_FILE
END
