PDS_VERSION_ID = PDS3
/* PRODUCT DESCRIPTION */
DATA_SET_ID = "CO-SSA-RADAR-5-BIDR-V1.0"
DATA_SET_NAME = "CASSINI ORBITER SSA RADAR 5 BIDR V1.0"
PRODUCER_INSTITUTION_NAME = "U.S.G.S. FLAGSTAFF"
PRODUCER_ID = USGS
PRODUCER_FULL_NAME = "RANDOLPH L. KIRK"
PRODUCT_ID = "BIBQF29S025_D149_T036S02_V03"
PRODUCT_VERSION_ID = 03
INSTRUMENT_HOST_NAME = "CASSINI ORBITER"
INSTRUMENT_HOST_ID = CO
INSTRUMENT_NAME = "CASSINI RADAR"
INSTRUMENT_ID = RADAR
TARGET_NAME = TITAN
START_TIME = 2007-275T04:28:03.591
STOP_TIME = 2007-275T04:30:30.832
SPACECRAFT_CLOCK_START_COUNT = 1569992596
SPACECRAFT_CLOCK_STOP_COUNT = 1569992743
PRODUCT_CREATION_TIME = 2018-030T17:02:27.000
SOURCE_PRODUCT_ID = "LBDR_14_D149_V03"
MISSION_PHASE_NAME = TOUR
MISSION_NAME = "CASSINI-HUYGENS"
SOFTWARE_VERSION_ID = "V1.0"
/* DESCRIPTION OF COMPRESSED AND UNCOMPRESSED FILES */
OBJECT = COMPRESSED_FILE
  FILE_NAME = "BIBQF29S025_D149_T036S02_V03.ZIP"
  RECORD_TYPE = UNDEFINED
  ENCODING_TYPE = ZIP
  INTERCHANGE_FORMAT = BINARY
  UNCOMPRESSED_FILE_NAME = "BIBQF29S025_D149_T036S02_V03.IMG"
  REQUIRED_STORAGE_BYTES = 823072
  ^DESCRIPTION = "SOFTWARE/SOFTINFO.TXT"
END_OBJECT = COMPRESSED_FILE
OBJECT = UNCOMPRESSED_FILE
  FILE_NAME = "BIBQF29S025_D149_T036S02_V03.IMG"
  RECORD_TYPE = FIXED_LENGTH
  RECORD_BYTES = 544
  FILE_RECORDS = 1513
  LABEL_RECORDS = 9
  /* POINTERS TO START RECORDS OF OBJECTS IN FILE */
  ^IMAGE = ("BIBQF29S025_D149_T036S02_V03.IMG", 10)
  /* DESCRIPTION OF OBJECTS CONTAINED IN FILE */
  OBJECT = IMAGE
    LINES = 1504
    LINE_SAMPLES = 544
    SAMPLE_TYPE = "UNSIGNED_INTEGER"
    SAMPLE_BITS = 8
    CHECKSUM = 51597243
    SCALING_FACTOR = 1.0000012E-01
    OFFSET = -2.0100010E+01
    MISSING_CONSTANT = 0
    NOTE = "The data values in this file are Synthetic Aperture Radar (SAR) normalized backscatter cross-section values in logarithmic form. The observed values have been corrected for incidence-angle effects and converted to decibels (db). The raw backscatter values have been multiplied by the function f(I), where I is the incidence angle and f(I) = 0.2907/(f1(I)+f2(I)+f3(I)), for f1(I)=2.8126*(cos(I)^4+893.9677*sin(I)^2)^(-1.5), f2(I)=0.5824*(cos(I)^4+34.1366*sin(I)^2)^(-1.5), and f3(I)=0.3767*cos(I)^1.9782. The corresponding decibel value is db = 10 log10 (cross-section * f(I)). The scaling between raw data number and db is specified by the SCALING_FACTOR and OFFSET."
  END_OBJECT = IMAGE
  OBJECT = IMAGE_MAP_PROJECTION
    ^DATA_SET_MAP_PROJECTION = "DSMAP.CAT"
    MAP_PROJECTION_TYPE = "OBLIQUE CYLINDRICAL"
    FIRST_STANDARD_PARALLEL = "N/A"
    SECOND_STANDARD_PARALLEL = "N/A"
    A_AXIS_RADIUS = 2575.0000000
    B_AXIS_RADIUS = 2575.0000000
    C_AXIS_RADIUS = 2575.0000000
    POSITIVE_LONGITUDE_DIRECTION = WEST
    CENTER_LATITUDE = 0.000000
    CENTER_LONGITUDE = 0.000000
    REFERENCE_LATITUDE = -59.6475840
    REFERENCE_LONGITUDE = 108.5200140
    LINE_FIRST_PIXEL = 1
    LINE_LAST_PIXEL = 1504
    SAMPLE_FIRST_PIXEL = 1
    SAMPLE_LAST_PIXEL = 544
    MAP_PROJECTION_ROTATION = 90.0000000
    MAP_RESOLUTION = 32.0000000
    MAP_SCALE = 1.4044446
    MAXIMUM_LATITUDE = -4.7887085
    MINIMUM_LATITUDE = -53.2406959
    EASTERNMOST_LONGITUDE = 5.2062407
    WESTERNMOST_LONGITUDE = 49.6130083
    LINE_PROJECTION_OFFSET = 2719.3750000
    SAMPLE_PROJECTION_OFFSET = -96.5000000
    OBLIQUE_PROJ_POLE_LATITUDE = -30.330521
    OBLIQUE_PROJ_POLE_LONGITUDE = 290.918612
    OBLIQUE_PROJ_POLE_ROTATION = 358.788211
    OBLIQUE_PROJ_X_AXIS_VECTOR = (-0.16050690,-0.47914828,-0.86293364)
    OBLIQUE_PROJ_Y_AXIS_VECTOR = (-0.93769268,0.34698596,-0.01825352)
    OBLIQUE_PROJ_Z_AXIS_VECTOR = (0.30817200,0.80623673,-0.50498747)
    LOOK_DIRECTION = LEFT
    COORDINATE_SYSTEM_NAME = "PLANETOGRAPHIC"
    COORDINATE_SYSTEM_TYPE = "BODY-FIXED ROTATING"
  END_OBJECT = IMAGE_MAP_PROJECTION
END_OBJECT = UNCOMPRESSED_FILE
END
