PDS_VERSION_ID = PDS3
/* PRODUCT DESCRIPTION */
DATA_SET_ID = "CO-SSA-RADAR-5-BIDR-V1.0"
DATA_SET_NAME = "CASSINI ORBITER SSA RADAR 5 BIDR V1.0"
PRODUCER_INSTITUTION_NAME = "JET PROPULSION LABORATORY"
PRODUCER_ID = JPL
PRODUCER_FULL_NAME = "Inst Lead Charles Elachi contact Bryan Stiles"
PRODUCT_ID = BIMQH80N051_D087_T016S01_V03
PRODUCT_VERSION_ID = 03
INSTRUMENT_HOST_NAME = "CASSINI ORBITER"
INSTRUMENT_HOST_ID = CO
INSTRUMENT_NAME = "CASSINI RADAR"
INSTRUMENT_ID = RADAR
TARGET_NAME = TITAN
START_TIME = 2006-203T00:06:55.910
STOP_TIME = 2006-203T00:43:25.432
SPACECRAFT_CLOCK_START_COUNT = 1532219889
SPACECRAFT_CLOCK_STOP_COUNT = 1532222078
PRODUCT_CREATION_TIME = 2014-176T02:01:37.000
SOURCE_PRODUCT_ID = LBDR_14_D087_V03
MISSION_PHASE_NAME = TOUR
MISSION_NAME = "CASSINI-HUYGENS"
SOFTWARE_VERSION_ID = "V1.0"
/* DESCRIPTION OF COMPRESSED AND UNCOMPRESSED FILES */
OBJECT = COMPRESSED_FILE
  FILE_NAME = "BIMQH80N051_D087_T016S01_V03.ZIP"
  RECORD_TYPE = UNDEFINED
  ENCODING_TYPE = ZIP
  INTERCHANGE_FORMAT = BINARY
  UNCOMPRESSED_FILE_NAME = "BIMQH80N051_D087_T016S01_V03.IMG"
  REQUIRED_STORAGE_BYTES = 37361280
  ^DESCRIPTION = "SOFTWARE/SOFTINFO.TXT"
END_OBJECT = COMPRESSED_FILE
OBJECT = UNCOMPRESSED_FILE
  FILE_NAME = "BIMQH80N051_D087_T016S01_V03.IMG"
  RECORD_TYPE = FIXED_LENGTH
  RECORD_BYTES = 1920
  FILE_RECORDS = 19459
  LABEL_RECORDS = 3
  /* POINTERS TO START RECORDS OF OBJECTS IN FILE */
  ^IMAGE = ("BIMQH80N051_D087_T016S01_V03.IMG", 4)
  /* DESCRIPTION OF OBJECTS CONTAINED IN FILE */
  OBJECT = IMAGE
    LINES = 19456
    LINE_SAMPLES = 1920
    SAMPLE_TYPE = "UNSIGNED INTEGER"
    SAMPLE_BITS = 8
    CHECKSUM = 94104428
    SCALING_FACTOR = 1.00000000
    OFFSET = 0.00000000
    MISSING_CONSTANT = "0"
    NOTE = "The data values in this file identify the beam(s) used to produce the backscatter values for each pixel."
  END_OBJECT = IMAGE
  OBJECT = IMAGE_MAP_PROJECTION
    ^DATA_SET_MAP_PROJECTION = "DSMAP.CAT"
    MAP_PROJECTION_TYPE = "OBLIQUE CYLINDRICAL"
    A_AXIS_RADIUS = 2575.000000
    B_AXIS_RADIUS = 2575.000000
    C_AXIS_RADIUS = 2575.000000
    FIRST_STANDARD_PARALLEL = "N/A"
    SECOND_STANDARD_PARALLEL = "N/A"
    POSITIVE_LONGITUDE_DIRECTION = WEST
    CENTER_LATITUDE = 0.000000
    CENTER_LONGITUDE = 0.000000
    REFERENCE_LATITUDE = 85.401084
    REFERENCE_LONGITUDE = 318.901355
    LINE_FIRST_PIXEL = 1
    LINE_LAST_PIXEL = 19456
    SAMPLE_FIRST_PIXEL = 1
    SAMPLE_LAST_PIXEL = 1920
    MAP_PROJECTION_ROTATION = 90.0
    MAP_RESOLUTION = 128.0
    MAP_SCALE = 0.35111116
    MAXIMUM_LATITUDE = 88.29353461
    MINIMUM_LATITUDE = 11.41973189
    EASTERNMOST_LONGITUDE = 337.93768909
    WESTERNMOST_LONGITUDE = 152.52116491
    LINE_PROJECTION_OFFSET = 9983.500
    SAMPLE_PROJECTION_OFFSET = 2303.500
    OBLIQUE_PROJ_POLE_LATITUDE = -1.295488
    OBLIQUE_PROJ_POLE_LONGITUDE = 245.229427
    OBLIQUE_PROJ_POLE_ROTATION = 184.413056
    OBLIQUE_PROJ_X_AXIS_VECTOR = ( 0.06042201, 0.05270696, 0.99678040 )
    OBLIQUE_PROJ_Y_AXIS_VECTOR = ( 0.90602970, 0.41616402, -0.07692655 )
    OBLIQUE_PROJ_Z_AXIS_VECTOR = ( -0.41887870, 0.90776070, -0.02260861 )
    LOOK_DIRECTION = RIGHT
    COORDINATE_SYSTEM_TYPE = "BODY-FIXED ROTATING"
    COORDINATE_SYSTEM_NAME = "PLANETOGRAPHIC"
  END_OBJECT = IMAGE_MAP_PROJECTION
END_OBJECT = UNCOMPRESSED_FILE
END
