PDS_VERSION_ID = PDS3
/* PRODUCT DESCRIPTION */
DATA_SET_ID = "CO-SSA-RADAR-5-BIDR-V1.0"
DATA_SET_NAME = "CASSINI ORBITER SSA RADAR 5 BIDR V1.0"
PRODUCER_INSTITUTION_NAME = "JET PROPULSION LABORATORY"
PRODUCER_ID = JPL
PRODUCER_FULL_NAME = "Inst Lead Charles Elachi contact Bryan Stiles"
PRODUCT_ID = BILQH01N017_D265_T108S03_V02
PRODUCT_VERSION_ID = 02
INSTRUMENT_HOST_NAME = "CASSINI ORBITER"
INSTRUMENT_HOST_ID = CO
INSTRUMENT_NAME = "CASSINI RADAR"
INSTRUMENT_ID = RADAR
TARGET_NAME = TITAN
START_TIME = 2015-011T19:29:03.525
STOP_TIME = 2015-011T19:29:57.789
SPACECRAFT_CLOCK_START_COUNT = 1799699389
SPACECRAFT_CLOCK_STOP_COUNT = 1799699443
PRODUCT_CREATION_TIME = 2015-162T01:30:39.000
SOURCE_PRODUCT_ID = LBDR_14_D265_V02
MISSION_PHASE_NAME = TOUR
MISSION_NAME = "CASSINI-HUYGENS"
SOFTWARE_VERSION_ID = "V1.0"
/* DESCRIPTION OF COMPRESSED AND UNCOMPRESSED FILES */
OBJECT = COMPRESSED_FILE
  FILE_NAME = "BILQH01N017_D265_T108S03_V02.ZIP"
  RECORD_TYPE = UNDEFINED
  ENCODING_TYPE = ZIP
  INTERCHANGE_FORMAT = BINARY
  UNCOMPRESSED_FILE_NAME = "BILQH01N017_D265_T108S03_V02.IMG"
  REQUIRED_STORAGE_BYTES = 1921536
  ^DESCRIPTION = "SOFTWARE/SOFTINFO.TXT"
END_OBJECT = COMPRESSED_FILE
OBJECT = UNCOMPRESSED_FILE
  FILE_NAME = "BILQH01N017_D265_T108S03_V02.IMG"
  RECORD_TYPE = FIXED_LENGTH
  RECORD_BYTES = 1152
  FILE_RECORDS = 1668
  LABEL_RECORDS = 4
  /* POINTERS TO START RECORDS OF OBJECTS IN FILE */
  ^IMAGE = ("BILQH01N017_D265_T108S03_V02.IMG", 5)
  /* DESCRIPTION OF OBJECTS CONTAINED IN FILE */
  OBJECT = IMAGE
    LINES = 1664
    LINE_SAMPLES = 1152
    SAMPLE_TYPE = "UNSIGNED INTEGER"
    SAMPLE_BITS = 8
    CHECKSUM = 000000000
    SCALING_FACTOR = 1.00000000
    OFFSET = 0.00000000
    MISSING_CONSTANT = "0"
    NOTE = "The data values in this file are the number of looks used to produce the backscatter values for each pixel."
  END_OBJECT = IMAGE
  OBJECT = IMAGE_MAP_PROJECTION
    ^DATA_SET_MAP_PROJECTION = "DSMAP.CAT"
    MAP_PROJECTION_TYPE = "OBLIQUE CYLINDRICAL"
    A_AXIS_RADIUS = 2575.000000
    B_AXIS_RADIUS = 2575.000000
    C_AXIS_RADIUS = 2575.000000
    FIRST_STANDARD_PARALLEL = "N/A"
    SECOND_STANDARD_PARALLEL = "N/A"
    POSITIVE_LONGITUDE_DIRECTION = WEST
    CENTER_LATITUDE = 0.000000
    CENTER_LONGITUDE = 0.000000
    REFERENCE_LATITUDE = 69.311345
    REFERENCE_LONGITUDE = 1.690485
    LINE_FIRST_PIXEL = 1
    LINE_LAST_PIXEL = 1664
    SAMPLE_FIRST_PIXEL = 1
    SAMPLE_LAST_PIXEL = 1152
    MAP_PROJECTION_ROTATION = 90.0
    MAP_RESOLUTION = 128.0
    MAP_SCALE = 0.35111116
    MAXIMUM_LATITUDE = 7.43110074
    MINIMUM_LATITUDE = -6.28371041
    EASTERNMOST_LONGITUDE = 12.05517962
    WESTERNMOST_LONGITUDE = 22.24419898
    LINE_PROJECTION_OFFSET = 9727.500
    SAMPLE_PROJECTION_OFFSET = 383.500
    OBLIQUE_PROJ_POLE_LATITUDE = 5.221430
    OBLIQUE_PROJ_POLE_LONGITUDE = 105.694291
    OBLIQUE_PROJ_POLE_ROTATION = 159.953070
    OBLIQUE_PROJ_X_AXIS_VECTOR = ( 0.35313585, -0.01042213, 0.93551400 )
    OBLIQUE_PROJ_Y_AXIS_VECTOR = ( -0.89595111, 0.28414782, 0.34136729 )
    OBLIQUE_PROJ_Z_AXIS_VECTOR = ( -0.26938204, -0.95872384, 0.09100506 )
    LOOK_DIRECTION = LEFT
    COORDINATE_SYSTEM_TYPE = "BODY-FIXED ROTATING"
    COORDINATE_SYSTEM_NAME = "PLANETOGRAPHIC"
  END_OBJECT = IMAGE_MAP_PROJECTION
END_OBJECT = UNCOMPRESSED_FILE
END
