PDS_VERSION_ID = PDS3
/* PRODUCT DESCRIPTION */
DATA_SET_ID = "CO-SSA-RADAR-5-BIDR-V1.0"
DATA_SET_NAME = "CASSINI ORBITER SSA RADAR 5 BIDR V1.0"
PRODUCER_INSTITUTION_NAME = "JET PROPULSION LABORATORY"
PRODUCER_ID = JPL
PRODUCER_FULL_NAME = "Inst Lead Charles Elachi contact Bryan Stiles"
PRODUCT_ID = BIDQI36N017_D265_T108S01_V02
PRODUCT_VERSION_ID = 02
INSTRUMENT_HOST_NAME = "CASSINI ORBITER"
INSTRUMENT_HOST_ID = CO
INSTRUMENT_NAME = "CASSINI RADAR"
INSTRUMENT_ID = RADAR
TARGET_NAME = TITAN
START_TIME = 2015-011T19:29:59.525
STOP_TIME = 2015-011T19:49:28.772
SPACECRAFT_CLOCK_START_COUNT = 1799699445
SPACECRAFT_CLOCK_STOP_COUNT = 1799700614
PRODUCT_CREATION_TIME = 2015-161T23:31:10.000
SOURCE_PRODUCT_ID = LBDR_14_D265_V02
MISSION_PHASE_NAME = TOUR
MISSION_NAME = "CASSINI-HUYGENS"
SOFTWARE_VERSION_ID = "V1.0"
/* DESCRIPTION OF COMPRESSED AND UNCOMPRESSED FILES */
OBJECT = COMPRESSED_FILE
  FILE_NAME = "BIDQI36N017_D265_T108S01_V02.ZIP"
  RECORD_TYPE = UNDEFINED
  ENCODING_TYPE = ZIP
  INTERCHANGE_FORMAT = BINARY
  UNCOMPRESSED_FILE_NAME = "BIDQI36N017_D265_T108S01_V02.IMG"
  REQUIRED_STORAGE_BYTES = 319305728
  ^DESCRIPTION = "SOFTWARE/SOFTINFO.TXT"
END_OBJECT = COMPRESSED_FILE
OBJECT = UNCOMPRESSED_FILE
  FILE_NAME = "BIDQI36N017_D265_T108S01_V02.IMG"
  RECORD_TYPE = FIXED_LENGTH
  RECORD_BYTES = 14336
  FILE_RECORDS = 22273
  LABEL_RECORDS = 1
  /* POINTERS TO START RECORDS OF OBJECTS IN FILE */
  ^IMAGE = ("BIDQI36N017_D265_T108S01_V02.IMG", 2)
  /* DESCRIPTION OF OBJECTS CONTAINED IN FILE */
  OBJECT = IMAGE
    LINES = 22272
    LINE_SAMPLES = 3584
    SAMPLE_TYPE = "PC_REAL"
    SAMPLE_BITS = 32
    CHECKSUM = 000000000
    SCALING_FACTOR = 1.00000000
    OFFSET = 0.00000000
    MISSING_CONSTANT = "16#FF7FFFFB#"
    NOTE = "The data values in this file are standard deviations of Synthetic Aperture Radar (SAR) normalized backscatter cross-section noise subtracted values w/o incidence angle correction. The values are physical scale (not in dB)."
  END_OBJECT = IMAGE
  OBJECT = IMAGE_MAP_PROJECTION
    ^DATA_SET_MAP_PROJECTION = "DSMAP.CAT"
    MAP_PROJECTION_TYPE = "OBLIQUE CYLINDRICAL"
    A_AXIS_RADIUS = 2575.000000
    B_AXIS_RADIUS = 2575.000000
    C_AXIS_RADIUS = 2575.000000
    FIRST_STANDARD_PARALLEL = "N/A"
    SECOND_STANDARD_PARALLEL = "N/A"
    POSITIVE_LONGITUDE_DIRECTION = WEST
    CENTER_LATITUDE = 0.000000
    CENTER_LONGITUDE = 0.000000
    REFERENCE_LATITUDE = 69.311345
    REFERENCE_LONGITUDE = 1.690485
    LINE_FIRST_PIXEL = 1
    LINE_LAST_PIXEL = 22272
    SAMPLE_FIRST_PIXEL = 1
    SAMPLE_LAST_PIXEL = 3584
    MAP_PROJECTION_ROTATION = 90.0
    MAP_RESOLUTION = 256.0
    MAP_SCALE = 0.17555558
    MAXIMUM_LATITUDE = 78.99753816
    MINIMUM_LATITUDE = -8.27582447
    EASTERNMOST_LONGITUDE = 339.25933996
    WESTERNMOST_LONGITUDE = 44.23232362
    LINE_PROJECTION_OFFSET = 19967.500
    SAMPLE_PROJECTION_OFFSET = 767.500
    OBLIQUE_PROJ_POLE_LATITUDE = 5.221430
    OBLIQUE_PROJ_POLE_LONGITUDE = 105.694291
    OBLIQUE_PROJ_POLE_ROTATION = 159.953070
    OBLIQUE_PROJ_X_AXIS_VECTOR = ( 0.35313585, -0.01042213, 0.93551400 )
    OBLIQUE_PROJ_Y_AXIS_VECTOR = ( -0.89595111, 0.28414782, 0.34136729 )
    OBLIQUE_PROJ_Z_AXIS_VECTOR = ( -0.26938204, -0.95872384, 0.09100506 )
    LOOK_DIRECTION = LEFT
    COORDINATE_SYSTEM_TYPE = "BODY-FIXED ROTATING"
    COORDINATE_SYSTEM_NAME = "PLANETOGRAPHIC"
  END_OBJECT = IMAGE_MAP_PROJECTION
END_OBJECT = UNCOMPRESSED_FILE
END
