PDS_VERSION_ID = PDS3
/* PRODUCT DESCRIPTION */
DATA_SET_ID = "CO-SSA-RADAR-5-BIDR-V1.0"
DATA_SET_NAME = "CASSINI ORBITER SSA RADAR 5 BIDR V1.0"
PRODUCER_INSTITUTION_NAME = "U.S.G.S. FLAGSTAFF"
PRODUCER_ID = USGS
PRODUCER_FULL_NAME = "RANDOLPH L. KIRK"
PRODUCT_ID = "BIBQG01N352_D265_T108S02_V02"
PRODUCT_VERSION_ID = 02
INSTRUMENT_HOST_NAME = "CASSINI ORBITER"
INSTRUMENT_HOST_ID = CO
INSTRUMENT_NAME = "CASSINI RADAR"
INSTRUMENT_ID = RADAR
TARGET_NAME = TITAN
START_TIME = 2015-011T18:32:35.547
STOP_TIME = 2015-011T19:20:22.729
SPACECRAFT_CLOCK_START_COUNT = 1799696001
SPACECRAFT_CLOCK_STOP_COUNT = 1799698868
PRODUCT_CREATION_TIME = 2015-343T07:31:28.000
SOURCE_PRODUCT_ID = "LBDR_14_D265_V02"
MISSION_PHASE_NAME = TOUR
MISSION_NAME = "CASSINI-HUYGENS"
SOFTWARE_VERSION_ID = "V1.0"
/* DESCRIPTION OF COMPRESSED AND UNCOMPRESSED FILES */
OBJECT = COMPRESSED_FILE
  FILE_NAME = "BIBQG01N352_D265_T108S02_V02.ZIP"
  RECORD_TYPE = UNDEFINED
  ENCODING_TYPE = ZIP
  INTERCHANGE_FORMAT = BINARY
  UNCOMPRESSED_FILE_NAME = "BIBQG01N352_D265_T108S02_V02.IMG"
  REQUIRED_STORAGE_BYTES = 35640768
  ^DESCRIPTION = "SOFTWARE/SOFTINFO.TXT"
END_OBJECT = COMPRESSED_FILE
OBJECT = UNCOMPRESSED_FILE
  FILE_NAME = "BIBQG01N352_D265_T108S02_V02.IMG"
  RECORD_TYPE = FIXED_LENGTH
  RECORD_BYTES = 5568
  FILE_RECORDS = 6401
  LABEL_RECORDS = 1
  /* POINTERS TO START RECORDS OF OBJECTS IN FILE */
  ^IMAGE = ("BIBQG01N352_D265_T108S02_V02.IMG", 2)
  /* DESCRIPTION OF OBJECTS CONTAINED IN FILE */
  OBJECT = IMAGE
    LINES = 6400
    LINE_SAMPLES = 5568
    SAMPLE_TYPE = "UNSIGNED_INTEGER"
    SAMPLE_BITS = 8
    CHECKSUM = 510509408
    SCALING_FACTOR = 1.0000012E-01
    OFFSET = -2.0100010E+01
    MISSING_CONSTANT = 0
    NOTE = "The data values in this file are Synthetic Aperture Radar (SAR) normalized backscatter cross-section values in logarithmic form. The observed values have been corrected for incidence-angle effects and converted to decibels (db). The raw backscatter values have been multiplied by the function f(I), where I is the incidence angle and f(I) = 0.2907/(f1(I)+f2(I)+f3(I)), for f1(I)=2.8126*(cos(I)^4+893.9677*sin(I)^2)^(-1.5), f2(I)=0.5824*(cos(I)^4+34.1366*sin(I)^2)^(-1.5), and f3(I)=0.3767*cos(I)^1.9782. The corresponding decibel value is db = 10 log10 (cross-section * f(I)). The scaling between raw data number and db is specified by the SCALING_FACTOR and OFFSET."
  END_OBJECT = IMAGE
  OBJECT = IMAGE_MAP_PROJECTION
    ^DATA_SET_MAP_PROJECTION = "DSMAP.CAT"
    MAP_PROJECTION_TYPE = "OBLIQUE CYLINDRICAL"
    FIRST_STANDARD_PARALLEL = "N/A"
    SECOND_STANDARD_PARALLEL = "N/A"
    A_AXIS_RADIUS = 2575.000000
    B_AXIS_RADIUS = 2575.000000
    C_AXIS_RADIUS = 2575.000000
    POSITIVE_LONGITUDE_DIRECTION = WEST
    CENTER_LATITUDE = 0.000000
    CENTER_LONGITUDE = 0.000000
    REFERENCE_LATITUDE = 69.311345
    REFERENCE_LONGITUDE = 1.690485
    LINE_FIRST_PIXEL = 1
    LINE_LAST_PIXEL = 6400
    SAMPLE_FIRST_PIXEL = 1
    SAMPLE_LAST_PIXEL = 5568
    MAP_PROJECTION_ROTATION = 90.0
    MAP_RESOLUTION = 64.0
    MAP_SCALE = 0.70222232
    MAXIMUM_LATITUDE = 53.12456145
    MINIMUM_LATITUDE = -47.26012593
    EASTERNMOST_LONGITUDE = 299.68868685
    WESTERNMOST_LONGITUDE = 47.87879519
    LINE_PROJECTION_OFFSET = 7487.50000000
    SAMPLE_PROJECTION_OFFSET = 4287.50000000
    OBLIQUE_PROJ_POLE_LATITUDE = 5.221430
    OBLIQUE_PROJ_POLE_LONGITUDE = 105.694291
    OBLIQUE_PROJ_POLE_ROTATION = 159.953070
    OBLIQUE_PROJ_X_AXIS_VECTOR = (0.35313585,-0.01042213,0.93551400)
    OBLIQUE_PROJ_Y_AXIS_VECTOR = (-0.89595111,0.28414782,0.34136729)
    OBLIQUE_PROJ_Z_AXIS_VECTOR = (-0.26938204,-0.95872384,0.09100506)
    LOOK_DIRECTION = LEFT
    COORDINATE_SYSTEM_NAME = "PLANETOGRAPHIC"
    COORDINATE_SYSTEM_TYPE = "BODY-FIXED ROTATING"
  END_OBJECT = IMAGE_MAP_PROJECTION
END_OBJECT = UNCOMPRESSED_FILE
END
