PDS_VERSION_ID = PDS3
/* PRODUCT DESCRIPTION */
DATA_SET_ID = "CO-SSA-RADAR-5-BIDR-V1.0"
DATA_SET_NAME = "CASSINI ORBITER SSA RADAR 5 BIDR V1.0"
PRODUCER_INSTITUTION_NAME = "JET PROPULSION LABORATORY"
PRODUCER_ID = JPL
PRODUCER_FULL_NAME = "Inst Lead Charles Elachi contact Bryan Stiles"
PRODUCT_ID = BIUQI61N226_D243_T086S01_V03
PRODUCT_VERSION_ID = 03
INSTRUMENT_HOST_NAME = "CASSINI ORBITER"
INSTRUMENT_HOST_ID = CO
INSTRUMENT_NAME = "CASSINI RADAR"
INSTRUMENT_ID = RADAR
TARGET_NAME = TITAN
START_TIME = 2012-270T14:30:40.355
STOP_TIME = 2012-270T14:40:37.108
SPACECRAFT_CLOCK_START_COUNT = 1727364226
SPACECRAFT_CLOCK_STOP_COUNT = 1727364822
PRODUCT_CREATION_TIME = 2018-010T20:58:36.000
SOURCE_PRODUCT_ID = LBDR_14_D243_V03
MISSION_PHASE_NAME = TOUR
MISSION_NAME = "CASSINI-HUYGENS"
SOFTWARE_VERSION_ID = "V1.0"
/* DESCRIPTION OF COMPRESSED AND UNCOMPRESSED FILES */
OBJECT = COMPRESSED_FILE
  FILE_NAME = "BIUQI61N226_D243_T086S01_V03.ZIP"
  RECORD_TYPE = UNDEFINED
  ENCODING_TYPE = ZIP
  INTERCHANGE_FORMAT = BINARY
  UNCOMPRESSED_FILE_NAME = "BIUQI61N226_D243_T086S01_V03.IMG"
  REQUIRED_STORAGE_BYTES = 238561280
  ^DESCRIPTION = "SOFTWARE/SOFTINFO.TXT"
END_OBJECT = COMPRESSED_FILE
OBJECT = UNCOMPRESSED_FILE
  FILE_NAME = "BIUQI61N226_D243_T086S01_V03.IMG"
  RECORD_TYPE = FIXED_LENGTH
  RECORD_BYTES = 10240
  FILE_RECORDS = 23297
  LABEL_RECORDS = 1
  /* POINTERS TO START RECORDS OF OBJECTS IN FILE */
  ^IMAGE = ("BIUQI61N226_D243_T086S01_V03.IMG", 2)
  /* DESCRIPTION OF OBJECTS CONTAINED IN FILE */
  OBJECT = IMAGE
    LINES = 23296
    LINE_SAMPLES = 2560
    SAMPLE_TYPE = "PC_REAL"
    SAMPLE_BITS = 32
    CHECKSUM = 000000000
    SCALING_FACTOR = 1.00000000
    OFFSET = 0.00000000
    MISSING_CONSTANT = "16#FF7FFFFB#"
    NOTE = "The data values in this file are Synthetic Aperture Radar (SAR) normalized backscatter cross-section values. The values are physical scale (not in dB) and have not been corrected for incidence-angle effects. Biases due to noise have not been removed."
  END_OBJECT = IMAGE
  OBJECT = IMAGE_MAP_PROJECTION
    ^DATA_SET_MAP_PROJECTION = "DSMAP.CAT"
    MAP_PROJECTION_TYPE = "OBLIQUE CYLINDRICAL"
    A_AXIS_RADIUS = 2575.000000
    B_AXIS_RADIUS = 2575.000000
    C_AXIS_RADIUS = 2575.000000
    FIRST_STANDARD_PARALLEL = "N/A"
    SECOND_STANDARD_PARALLEL = "N/A"
    POSITIVE_LONGITUDE_DIRECTION = WEST
    CENTER_LATITUDE = 0.000000
    CENTER_LONGITUDE = 0.000000
    REFERENCE_LATITUDE = 62.627903
    REFERENCE_LONGITUDE = 200.611756
    LINE_FIRST_PIXEL = 1
    LINE_LAST_PIXEL = 23296
    SAMPLE_FIRST_PIXEL = 1
    SAMPLE_LAST_PIXEL = 2560
    MAP_PROJECTION_ROTATION = 90.0
    MAP_RESOLUTION = 256.0
    MAP_SCALE = 0.17555558
    MAXIMUM_LATITUDE = 83.48012780
    MINIMUM_LATITUDE = 16.98656681
    EASTERNMOST_LONGITUDE = 208.73541555
    WESTERNMOST_LONGITUDE = 1.76969856
    LINE_PROJECTION_OFFSET = 11775.500
    SAMPLE_PROJECTION_OFFSET = 4351.500
    OBLIQUE_PROJ_POLE_LATITUDE = -0.482081
    OBLIQUE_PROJ_POLE_LONGITUDE = 111.542957
    OBLIQUE_PROJ_POLE_ROTATION = 207.368179
    OBLIQUE_PROJ_X_AXIS_VECTOR = ( -0.43033643, 0.16185361, 0.88803940 )
    OBLIQUE_PROJ_Y_AXIS_VECTOR = ( -0.82461216, 0.32969614, -0.45969037 )
    OBLIQUE_PROJ_Z_AXIS_VECTOR = ( -0.36718570, -0.93010960, -0.00841380 )
    LOOK_DIRECTION = RIGHT
    COORDINATE_SYSTEM_TYPE = "BODY-FIXED ROTATING"
    COORDINATE_SYSTEM_NAME = "PLANETOGRAPHIC"
  END_OBJECT = IMAGE_MAP_PROJECTION
END_OBJECT = UNCOMPRESSED_FILE
END
