PDS_VERSION_ID = PDS3
/* PRODUCT DESCRIPTION */
DATA_SET_ID = "CO-SSA-RADAR-5-BIDR-V1.0"
DATA_SET_NAME = "CASSINI ORBITER SSA RADAR 5 BIDR V1.0"
PRODUCER_INSTITUTION_NAME = "JET PROPULSION LABORATORY"
PRODUCER_ID = JPL
PRODUCER_FULL_NAME = "Inst Lead Charles Elachi contact Bryan Stiles"
PRODUCT_ID = BIMQH16N210_D210_T064S04_V03
PRODUCT_VERSION_ID = 03
INSTRUMENT_HOST_NAME = "CASSINI ORBITER"
INSTRUMENT_HOST_ID = CO
INSTRUMENT_NAME = "CASSINI RADAR"
INSTRUMENT_ID = RADAR
TARGET_NAME = TITAN
START_TIME = 2009-362T00:35:32.561
STOP_TIME = 2009-362T00:36:08.326
SPACECRAFT_CLOCK_START_COUNT = 1640654346
SPACECRAFT_CLOCK_STOP_COUNT = 1640654382
PRODUCT_CREATION_TIME = 2017-348T22:05:59.000
SOURCE_PRODUCT_ID = LBDR_14_D210_V03
MISSION_PHASE_NAME = TOUR
MISSION_NAME = "CASSINI-HUYGENS"
SOFTWARE_VERSION_ID = "V1.0"
/* DESCRIPTION OF COMPRESSED AND UNCOMPRESSED FILES */
OBJECT = COMPRESSED_FILE
  FILE_NAME = "BIMQH16N210_D210_T064S04_V03.ZIP"
  RECORD_TYPE = UNDEFINED
  ENCODING_TYPE = ZIP
  INTERCHANGE_FORMAT = BINARY
  UNCOMPRESSED_FILE_NAME = "BIMQH16N210_D210_T064S04_V03.IMG"
  REQUIRED_STORAGE_BYTES = 1970688
  ^DESCRIPTION = "SOFTWARE/SOFTINFO.TXT"
END_OBJECT = COMPRESSED_FILE
OBJECT = UNCOMPRESSED_FILE
  FILE_NAME = "BIMQH16N210_D210_T064S04_V03.IMG"
  RECORD_TYPE = FIXED_LENGTH
  RECORD_BYTES = 1536
  FILE_RECORDS = 1283
  LABEL_RECORDS = 3
  /* POINTERS TO START RECORDS OF OBJECTS IN FILE */
  ^IMAGE = ("BIMQH16N210_D210_T064S04_V03.IMG", 4)
  /* DESCRIPTION OF OBJECTS CONTAINED IN FILE */
  OBJECT = IMAGE
    LINES = 1280
    LINE_SAMPLES = 1536
    SAMPLE_TYPE = "UNSIGNED INTEGER"
    SAMPLE_BITS = 8
    CHECKSUM = 437824
    SCALING_FACTOR = 1.00000000
    OFFSET = 0.00000000
    MISSING_CONSTANT = "0"
    NOTE = "The data values in this file identify the beam(s) used to produce the backscatter values for each pixel."
  END_OBJECT = IMAGE
  OBJECT = IMAGE_MAP_PROJECTION
    ^DATA_SET_MAP_PROJECTION = "DSMAP.CAT"
    MAP_PROJECTION_TYPE = "OBLIQUE CYLINDRICAL"
    A_AXIS_RADIUS = 2575.000000
    B_AXIS_RADIUS = 2575.000000
    C_AXIS_RADIUS = 2575.000000
    FIRST_STANDARD_PARALLEL = "N/A"
    SECOND_STANDARD_PARALLEL = "N/A"
    POSITIVE_LONGITUDE_DIRECTION = WEST
    CENTER_LATITUDE = 0.000000
    CENTER_LONGITUDE = 0.000000
    REFERENCE_LATITUDE = 82.092887
    REFERENCE_LONGITUDE = 172.374078
    LINE_FIRST_PIXEL = 1
    LINE_LAST_PIXEL = 1280
    SAMPLE_FIRST_PIXEL = 1
    SAMPLE_LAST_PIXEL = 1536
    MAP_PROJECTION_ROTATION = 90.0
    MAP_RESOLUTION = 128.0
    MAP_SCALE = 0.35111116
    MAXIMUM_LATITUDE = 20.82333363
    MINIMUM_LATITUDE = 10.2860650
    EASTERNMOST_LONGITUDE = 203.01615915
    WESTERNMOST_LONGITUDE = 216.06547533
    LINE_PROJECTION_OFFSET = -8065.500
    SAMPLE_PROJECTION_OFFSET = 1407.500
    OBLIQUE_PROJ_POLE_LATITUDE = -4.362787
    OBLIQUE_PROJ_POLE_LONGITUDE = 115.693735
    OBLIQUE_PROJ_POLE_ROTATION = 186.600973
    OBLIQUE_PROJ_X_AXIS_VECTOR = ( -0.13635082, -0.01825587, 0.99049239 )
    OBLIQUE_PROJ_Y_AXIS_VECTOR = ( -0.89135935, 0.43856648, -0.11462093 )
    OBLIQUE_PROJ_Z_AXIS_VECTOR = ( -0.43230426, -0.89851331, -0.07607144 )
    LOOK_DIRECTION = RIGHT
    COORDINATE_SYSTEM_TYPE = "BODY-FIXED ROTATING"
    COORDINATE_SYSTEM_NAME = "PLANETOGRAPHIC"
  END_OBJECT = IMAGE_MAP_PROJECTION
END_OBJECT = UNCOMPRESSED_FILE
END
