PDS_VERSION_ID = PDS3
/* PRODUCT DESCRIPTION */
DATA_SET_ID = "CO-SSA-RADAR-5-BIDR-V1.0"
DATA_SET_NAME = "CASSINI ORBITER SSA RADAR 5 BIDR V1.0"
PRODUCER_INSTITUTION_NAME = "U.S.G.S. FLAGSTAFF"
PRODUCER_ID = USGS
PRODUCER_FULL_NAME = "RANDOLPH L. KIRK"
PRODUCT_ID = "BIBQG35N179_D210_T064S02_V03"
PRODUCT_VERSION_ID = 03
INSTRUMENT_HOST_NAME = "CASSINI ORBITER"
INSTRUMENT_HOST_ID = CO
INSTRUMENT_NAME = "CASSINI RADAR"
INSTRUMENT_ID = RADAR
TARGET_NAME = TITAN
START_TIME = 2009-362T00:46:59.322
STOP_TIME = 2009-362T01:09:01.361
SPACECRAFT_CLOCK_START_COUNT = 1640655033
SPACECRAFT_CLOCK_STOP_COUNT = 1640656355
PRODUCT_CREATION_TIME = 2018-030T15:12:33.000
SOURCE_PRODUCT_ID = "LBDR_14_D210_V03"
MISSION_PHASE_NAME = TOUR
MISSION_NAME = "CASSINI-HUYGENS"
SOFTWARE_VERSION_ID = "V1.0"
/* DESCRIPTION OF COMPRESSED AND UNCOMPRESSED FILES */
OBJECT = COMPRESSED_FILE
  FILE_NAME = "BIBQG35N179_D210_T064S02_V03.ZIP"
  RECORD_TYPE = UNDEFINED
  ENCODING_TYPE = ZIP
  INTERCHANGE_FORMAT = BINARY
  UNCOMPRESSED_FILE_NAME = "BIBQG35N179_D210_T064S02_V03.IMG"
  REQUIRED_STORAGE_BYTES = 32445440
  ^DESCRIPTION = "SOFTWARE/SOFTINFO.TXT"
END_OBJECT = COMPRESSED_FILE
OBJECT = UNCOMPRESSED_FILE
  FILE_NAME = "BIBQG35N179_D210_T064S02_V03.IMG"
  RECORD_TYPE = FIXED_LENGTH
  RECORD_BYTES = 5120
  FILE_RECORDS = 6337
  LABEL_RECORDS = 1
  /* POINTERS TO START RECORDS OF OBJECTS IN FILE */
  ^IMAGE = ("BIBQG35N179_D210_T064S02_V03.IMG", 2)
  /* DESCRIPTION OF OBJECTS CONTAINED IN FILE */
  OBJECT = IMAGE
    LINES = 6336
    LINE_SAMPLES = 5120
    SAMPLE_TYPE = "UNSIGNED_INTEGER"
    SAMPLE_BITS = 8
    CHECKSUM = 132347757
    SCALING_FACTOR = 1.0000012E-01
    OFFSET = -2.0100010E+01
    MISSING_CONSTANT = 0
    NOTE = "The data values in this file are Synthetic Aperture Radar (SAR) normalized backscatter cross-section values in logarithmic form. The observed values have been corrected for incidence-angle effects and converted to decibels (db). The raw backscatter values have been multiplied by the function f(I), where I is the incidence angle and f(I) = 0.2907/(f1(I)+f2(I)+f3(I)), for f1(I)=2.8126*(cos(I)^4+893.9677*sin(I)^2)^(-1.5), f2(I)=0.5824*(cos(I)^4+34.1366*sin(I)^2)^(-1.5), and f3(I)=0.3767*cos(I)^1.9782. The corresponding decibel value is db = 10 log10 (cross-section * f(I)). The scaling between raw data number and db is specified by the SCALING_FACTOR and OFFSET."
  END_OBJECT = IMAGE
  OBJECT = IMAGE_MAP_PROJECTION
    ^DATA_SET_MAP_PROJECTION = "DSMAP.CAT"
    MAP_PROJECTION_TYPE = "OBLIQUE CYLINDRICAL"
    FIRST_STANDARD_PARALLEL = "N/A"
    SECOND_STANDARD_PARALLEL = "N/A"
    A_AXIS_RADIUS = 2575.000000
    B_AXIS_RADIUS = 2575.000000
    C_AXIS_RADIUS = 2575.000000
    POSITIVE_LONGITUDE_DIRECTION = WEST
    CENTER_LATITUDE = 0.000000
    CENTER_LONGITUDE = 0.000000
    REFERENCE_LATITUDE = 82.092887
    REFERENCE_LONGITUDE = 172.374078
    LINE_FIRST_PIXEL = 1
    LINE_LAST_PIXEL = 6336
    SAMPLE_FIRST_PIXEL = 1
    SAMPLE_LAST_PIXEL = 5120
    MAP_PROJECTION_ROTATION = 90.0
    MAP_RESOLUTION = 64.0
    MAP_SCALE = 0.70222232
    MAXIMUM_LATITUDE = 88.39587514
    MINIMUM_LATITUDE = -11.44689932
    EASTERNMOST_LONGITUDE = 116.62079360
    WESTERNMOST_LONGITUDE = 290.46105879
    LINE_PROJECTION_OFFSET = 319.50000000
    SAMPLE_PROJECTION_OFFSET = 1343.50000000
    OBLIQUE_PROJ_POLE_LATITUDE = -4.362787
    OBLIQUE_PROJ_POLE_LONGITUDE = 115.693735
    OBLIQUE_PROJ_POLE_ROTATION = 186.600973
    OBLIQUE_PROJ_X_AXIS_VECTOR = (-0.13635082,-0.01825587,0.99049239)
    OBLIQUE_PROJ_Y_AXIS_VECTOR = (-0.89135935,0.43856648,-0.11462093)
    OBLIQUE_PROJ_Z_AXIS_VECTOR = (-0.43230426,-0.89851331,-0.07607144)
    LOOK_DIRECTION = RIGHT
    COORDINATE_SYSTEM_NAME = "PLANETOGRAPHIC"
    COORDINATE_SYSTEM_TYPE = "BODY-FIXED ROTATING"
  END_OBJECT = IMAGE_MAP_PROJECTION
END_OBJECT = UNCOMPRESSED_FILE
END
