PDS_VERSION_ID = PDS3
/* PRODUCT DESCRIPTION */
DATA_SET_ID = "CO-SSA-RADAR-5-BIDR-V1.0"
DATA_SET_NAME = "CASSINI ORBITER SSA RADAR 5 BIDR V1.0"
PRODUCER_INSTITUTION_NAME = "JET PROPULSION LABORATORY"
PRODUCER_ID = JPL
PRODUCER_FULL_NAME = "Inst Lead Charles Elachi contact Bryan Stiles"
PRODUCT_ID = BIMQH33N027_D120_T025S01_V03
PRODUCT_VERSION_ID = 03
INSTRUMENT_HOST_NAME = "CASSINI ORBITER"
INSTRUMENT_HOST_ID = CO
INSTRUMENT_NAME = "CASSINI RADAR"
INSTRUMENT_ID = RADAR
TARGET_NAME = TITAN
START_TIME = 2007-053T02:55:00.650
STOP_TIME = 2007-053T03:30:22.636
SPACECRAFT_CLOCK_START_COUNT = 1550806092
SPACECRAFT_CLOCK_STOP_COUNT = 1550808214
PRODUCT_CREATION_TIME = 2016-098T23:50:10.000
SOURCE_PRODUCT_ID = LBDR_14_D120_V03
MISSION_PHASE_NAME = TOUR
MISSION_NAME = "CASSINI-HUYGENS"
SOFTWARE_VERSION_ID = "V1.0"
/* DESCRIPTION OF COMPRESSED AND UNCOMPRESSED FILES */
OBJECT = COMPRESSED_FILE
  FILE_NAME = "BIMQH33N027_D120_T025S01_V03.ZIP"
  RECORD_TYPE = UNDEFINED
  ENCODING_TYPE = ZIP
  INTERCHANGE_FORMAT = BINARY
  UNCOMPRESSED_FILE_NAME = "BIMQH33N027_D120_T025S01_V03.IMG"
  REQUIRED_STORAGE_BYTES = 34641152
  ^DESCRIPTION = "SOFTWARE/SOFTINFO.TXT"
END_OBJECT = COMPRESSED_FILE
OBJECT = UNCOMPRESSED_FILE
  FILE_NAME = "BIMQH33N027_D120_T025S01_V03.IMG"
  RECORD_TYPE = FIXED_LENGTH
  RECORD_BYTES = 1792
  FILE_RECORDS = 19331
  LABEL_RECORDS = 3
  /* POINTERS TO START RECORDS OF OBJECTS IN FILE */
  ^IMAGE = ("BIMQH33N027_D120_T025S01_V03.IMG", 4)
  /* DESCRIPTION OF OBJECTS CONTAINED IN FILE */
  OBJECT = IMAGE
    LINES = 19328
    LINE_SAMPLES = 1792
    SAMPLE_TYPE = "UNSIGNED INTEGER"
    SAMPLE_BITS = 8
    CHECKSUM = 99732015
    SCALING_FACTOR = 1.00000000
    OFFSET = 0.00000000
    MISSING_CONSTANT = "0"
    NOTE = "The data values in this file identify the beam(s) used to produce the backscatter values for each pixel."
  END_OBJECT = IMAGE
  OBJECT = IMAGE_MAP_PROJECTION
    ^DATA_SET_MAP_PROJECTION = "DSMAP.CAT"
    MAP_PROJECTION_TYPE = "OBLIQUE CYLINDRICAL"
    A_AXIS_RADIUS = 2575.000000
    B_AXIS_RADIUS = 2575.000000
    C_AXIS_RADIUS = 2575.000000
    FIRST_STANDARD_PARALLEL = "N/A"
    SECOND_STANDARD_PARALLEL = "N/A"
    POSITIVE_LONGITUDE_DIRECTION = WEST
    CENTER_LATITUDE = 0.000000
    CENTER_LONGITUDE = 0.000000
    REFERENCE_LATITUDE = 30.417704
    REFERENCE_LONGITUDE = 16.083215
    LINE_FIRST_PIXEL = 1
    LINE_LAST_PIXEL = 19328
    SAMPLE_FIRST_PIXEL = 1
    SAMPLE_LAST_PIXEL = 1792
    MAP_PROJECTION_ROTATION = 90.0
    MAP_RESOLUTION = 128.0
    MAP_SCALE = 0.35111116
    MAXIMUM_LATITUDE = 89.00478714
    MINIMUM_LATITUDE = -39.91320768
    EASTERNMOST_LONGITUDE = 207.93221888
    WESTERNMOST_LONGITUDE = 62.054591000
    LINE_PROJECTION_OFFSET = 9727.500
    SAMPLE_PROJECTION_OFFSET = -384.500
    OBLIQUE_PROJ_POLE_LATITUDE = 17.993259
    OBLIQUE_PROJ_POLE_LONGITUDE = 117.076146
    OBLIQUE_PROJ_POLE_ROTATION = 122.163374
    OBLIQUE_PROJ_X_AXIS_VECTOR = ( 0.82860491, -0.23890158, 0.50630025 )
    OBLIQUE_PROJ_Y_AXIS_VECTOR = ( -0.35496516, 0.47514422, 0.80513210 )
    OBLIQUE_PROJ_Z_AXIS_VECTOR = ( -0.43291297, -0.84685536, 0.30890510 )
    LOOK_DIRECTION = LEFT
    COORDINATE_SYSTEM_TYPE = "BODY-FIXED ROTATING"
    COORDINATE_SYSTEM_NAME = "PLANETOGRAPHIC"
  END_OBJECT = IMAGE_MAP_PROJECTION
END_OBJECT = UNCOMPRESSED_FILE
END
