PDS_VERSION_ID = PDS3
/* PRODUCT DESCRIPTION */
DATA_SET_ID = "CO-SSA-RADAR-5-BIDR-V1.0"
DATA_SET_NAME = "CASSINI ORBITER SSA RADAR 5 BIDR V1.0"
PRODUCER_INSTITUTION_NAME = "JET PROPULSION LABORATORY"
PRODUCER_ID = JPL
PRODUCER_FULL_NAME = "Inst Lead Charles Elachi contact Bryan Stiles"
PRODUCT_ID = BIFQH29N200_D276_T120S03_V02
PRODUCT_VERSION_ID = 02
INSTRUMENT_HOST_NAME = "CASSINI ORBITER"
INSTRUMENT_HOST_ID = CO
INSTRUMENT_NAME = "CASSINI RADAR"
INSTRUMENT_ID = RADAR
TARGET_NAME = TITAN
START_TIME = 2016-159T14:24:31.829
STOP_TIME = 2016-159T14:25:54.604
SPACECRAFT_CLOCK_START_COUNT = 1844004601
SPACECRAFT_CLOCK_STOP_COUNT = 1844004683
PRODUCT_CREATION_TIME = 2016-327T22:40:15.000
SOURCE_PRODUCT_ID = LBDR_14_D276_V02
MISSION_PHASE_NAME = TOUR
MISSION_NAME = "CASSINI-HUYGENS"
SOFTWARE_VERSION_ID = "V1.0"
/* DESCRIPTION OF COMPRESSED AND UNCOMPRESSED FILES */
OBJECT = COMPRESSED_FILE
  FILE_NAME = "BIFQH29N200_D276_T120S03_V02.ZIP"
  RECORD_TYPE = UNDEFINED
  ENCODING_TYPE = ZIP
  INTERCHANGE_FORMAT = BINARY
  UNCOMPRESSED_FILE_NAME = "BIFQH29N200_D276_T120S03_V02.IMG"
  REQUIRED_STORAGE_BYTES = 24253440
  ^DESCRIPTION = "SOFTWARE/SOFTINFO.TXT"
END_OBJECT = COMPRESSED_FILE
OBJECT = UNCOMPRESSED_FILE
  FILE_NAME = "BIFQH29N200_D276_T120S03_V02.IMG"
  RECORD_TYPE = FIXED_LENGTH
  RECORD_BYTES = 5120
  FILE_RECORDS = 4737
  LABEL_RECORDS = 1
  /* POINTERS TO START RECORDS OF OBJECTS IN FILE */
  ^IMAGE = ("BIFQH29N200_D276_T120S03_V02.IMG", 2)
  /* DESCRIPTION OF OBJECTS CONTAINED IN FILE */
  OBJECT = IMAGE
    LINES = 4736
    LINE_SAMPLES = 1280
    SAMPLE_TYPE = "PC_REAL"
    SAMPLE_BITS = 32
    CHECKSUM = 0
    SCALING_FACTOR = 1.00000000
    OFFSET = 0.00000000
    MISSING_CONSTANT = "16#FF7FFFFB#"
    NOTE = "The data values in this file are Synthetic Aperture Radar (SAR) normalized backscatter cross-section values. The values are physical scale (not in dB) and have been corrected for incidence-angle effects and biases due to thermal and quantization noise have been removed. The raw backscatter values have been multiplied by the function f(I), where I is the incidence angle and f(I) = 0.2907/(f1(I)+f2(I)+f3(I)), for f1(I)=2.8126*(cos(I)^4+893.9677*sin(I)^2)^(-1.5), f2(I)=0.5824*(cos(I)^4+34.1366*sin(I)^2)^(-1.5), and f3(I)=0.3767*cos(I)^1.9782."
  END_OBJECT = IMAGE
  OBJECT = IMAGE_MAP_PROJECTION
    ^DATA_SET_MAP_PROJECTION = "DSMAP.CAT"
    MAP_PROJECTION_TYPE = "OBLIQUE CYLINDRICAL"
    A_AXIS_RADIUS = 2575.000000
    B_AXIS_RADIUS = 2575.000000
    C_AXIS_RADIUS = 2575.000000
    FIRST_STANDARD_PARALLEL = "N/A"
    SECOND_STANDARD_PARALLEL = "N/A"
    POSITIVE_LONGITUDE_DIRECTION = WEST
    CENTER_LATITUDE = 0.000000
    CENTER_LONGITUDE = 0.000000
    REFERENCE_LATITUDE = -35.800256
    REFERENCE_LONGITUDE = 146.825726
    LINE_FIRST_PIXEL = 1
    LINE_LAST_PIXEL = 4736
    SAMPLE_FIRST_PIXEL = 1
    SAMPLE_LAST_PIXEL = 1280
    MAP_PROJECTION_ROTATION = 90.0
    MAP_RESOLUTION = 128.0
    MAP_SCALE = 0.35111116
    MAXIMUM_LATITUDE = 45.60677156
    MINIMUM_LATITUDE = 11.21401311
    EASTERNMOST_LONGITUDE = 183.30947105
    WESTERNMOST_LONGITUDE = 219.82887047
    LINE_PROJECTION_OFFSET = -8065.500
    SAMPLE_PROJECTION_OFFSET = 255.500
    OBLIQUE_PROJ_POLE_LATITUDE = -32.796987
    OBLIQUE_PROJ_POLE_LONGITUDE = 264.519578
    OBLIQUE_PROJ_POLE_ROTATION = 45.901859
    OBLIQUE_PROJ_X_AXIS_VECTOR = ( -0.67886641, -0.44380252, -0.58496130 )
    OBLIQUE_PROJ_Y_AXIS_VECTOR = ( -0.72985976, 0.32075589, 0.60367242 )
    OBLIQUE_PROJ_Z_AXIS_VECTOR = ( -0.08028156, 0.83675264, -0.54166400 )
    LOOK_DIRECTION = LEFT
    COORDINATE_SYSTEM_TYPE = "BODY-FIXED ROTATING"
    COORDINATE_SYSTEM_NAME = "PLANETOGRAPHIC"
  END_OBJECT = IMAGE_MAP_PROJECTION
END_OBJECT = UNCOMPRESSED_FILE
END
