PDS_VERSION_ID = PDS3
/* PRODUCT DESCRIPTION */
DATA_SET_ID = "CO-SSA-RADAR-5-BIDR-V1.0"
DATA_SET_NAME = "CASSINI ORBITER SSA RADAR 5 BIDR V1.0"
PRODUCER_INSTITUTION_NAME = "U.S.G.S. FLAGSTAFF"
PRODUCER_ID = USGS
PRODUCER_FULL_NAME = "RANDOLPH L. KIRK"
PRODUCT_ID = "BIBQD44S161_D276_T120S01_V02"
PRODUCT_VERSION_ID = 02
INSTRUMENT_HOST_NAME = "CASSINI ORBITER"
INSTRUMENT_HOST_ID = CO
INSTRUMENT_NAME = "CASSINI RADAR"
INSTRUMENT_ID = RADAR
TARGET_NAME = TITAN
START_TIME = 2016-159T13:47:41.843
STOP_TIME = 2016-159T14:13:16.531
SPACECRAFT_CLOCK_START_COUNT = 1844002391
SPACECRAFT_CLOCK_STOP_COUNT = 1844003925
PRODUCT_CREATION_TIME = 2017-074T15:01:12.000
SOURCE_PRODUCT_ID = "LBDR_14_D276_V02"
MISSION_PHASE_NAME = TOUR
MISSION_NAME = "CASSINI-HUYGENS"
SOFTWARE_VERSION_ID = "V1.0"
/* DESCRIPTION OF COMPRESSED AND UNCOMPRESSED FILES */
OBJECT = COMPRESSED_FILE
  FILE_NAME = "BIBQD44S161_D276_T120S01_V02.ZIP"
  RECORD_TYPE = UNDEFINED
  ENCODING_TYPE = ZIP
  INTERCHANGE_FORMAT = BINARY
  UNCOMPRESSED_FILE_NAME = "BIBQD44S161_D276_T120S01_V02.IMG"
  REQUIRED_STORAGE_BYTES = 211680
  ^DESCRIPTION = "SOFTWARE/SOFTINFO.TXT"
END_OBJECT = COMPRESSED_FILE
OBJECT = UNCOMPRESSED_FILE
  FILE_NAME = "BIBQD44S161_D276_T120S01_V02.IMG"
  RECORD_TYPE = FIXED_LENGTH
  RECORD_BYTES = 168
  FILE_RECORDS = 1260
  LABEL_RECORDS = 28
  /* POINTERS TO START RECORDS OF OBJECTS IN FILE */
  ^IMAGE = ("BIBQD44S161_D276_T120S01_V02.IMG", 29)
  /* DESCRIPTION OF OBJECTS CONTAINED IN FILE */
  OBJECT = IMAGE
    LINES = 1232
    LINE_SAMPLES = 168
    SAMPLE_TYPE = "UNSIGNED_INTEGER"
    SAMPLE_BITS = 8
    CHECKSUM = 5463692
    SCALING_FACTOR = 1.0000012E-01
    OFFSET = -2.0100010E+01
    MISSING_CONSTANT = 0
    NOTE = "The data values in this file are Synthetic Aperture Radar (SAR) normalized backscatter cross-section values in logarithmic form. The observed values have been corrected for incidence-angle effects and converted to decibels (db). The raw backscatter values have been multiplied by the function f(I), where I is the incidence angle and f(I) = 0.2907/(f1(I)+f2(I)+f3(I)), for f1(I)=2.8126*(cos(I)^4+893.9677*sin(I)^2)^(-1.5), f2(I)=0.5824*(cos(I)^4+34.1366*sin(I)^2)^(-1.5), and f3(I)=0.3767*cos(I)^1.9782. The corresponding decibel value is db = 10 log10 (cross-section * f(I)). The scaling between raw data number and db is specified by the SCALING_FACTOR and OFFSET."
  END_OBJECT = IMAGE
  OBJECT = IMAGE_MAP_PROJECTION
    ^DATA_SET_MAP_PROJECTION = "DSMAP.CAT"
    MAP_PROJECTION_TYPE = "OBLIQUE CYLINDRICAL"
    FIRST_STANDARD_PARALLEL = "N/A"
    SECOND_STANDARD_PARALLEL = "N/A"
    A_AXIS_RADIUS = 2575.0000000
    B_AXIS_RADIUS = 2575.0000000
    C_AXIS_RADIUS = 2575.0000000
    POSITIVE_LONGITUDE_DIRECTION = WEST
    CENTER_LATITUDE = 0.000000
    CENTER_LONGITUDE = 0.000000
    REFERENCE_LATITUDE = -35.8002560
    REFERENCE_LONGITUDE = 146.8257260
    LINE_FIRST_PIXEL = 1
    LINE_LAST_PIXEL = 1232
    SAMPLE_FIRST_PIXEL = 1
    SAMPLE_LAST_PIXEL = 168
    MAP_PROJECTION_ROTATION = 90.0000000
    MAP_RESOLUTION = 8.0000000
    MAP_SCALE = 5.6177785
    MAXIMUM_LATITUDE = 25.3150369
    MINIMUM_LATITUDE = -81.2010598
    EASTERNMOST_LONGITUDE = 0.0000000
    WESTERNMOST_LONGITUDE = 360.0000000
    LINE_PROJECTION_OFFSET = 615.5000000
    SAMPLE_PROJECTION_OFFSET = -24.5000000
    OBLIQUE_PROJ_POLE_LATITUDE = -32.796987
    OBLIQUE_PROJ_POLE_LONGITUDE = 264.519578
    OBLIQUE_PROJ_POLE_ROTATION = 45.901859
    OBLIQUE_PROJ_X_AXIS_VECTOR = (-0.67886641,-0.44380252,-0.58496130)
    OBLIQUE_PROJ_Y_AXIS_VECTOR = (-0.72985976,0.32075589,0.60367242)
    OBLIQUE_PROJ_Z_AXIS_VECTOR = (-0.08028156,0.83675264,-0.54166400)
    LOOK_DIRECTION = LEFT
    COORDINATE_SYSTEM_NAME = "PLANETOGRAPHIC"
    COORDINATE_SYSTEM_TYPE = "BODY-FIXED ROTATING"
  END_OBJECT = IMAGE_MAP_PROJECTION
END_OBJECT = UNCOMPRESSED_FILE
END
