PDS_VERSION_ID = PDS3
/* PRODUCT DESCRIPTION */
DATA_SET_ID = "CO-SSA-RADAR-5-BIDR-V1.0"
DATA_SET_NAME = "CASSINI ORBITER SSA RADAR 5 BIDR V1.0"
PRODUCER_INSTITUTION_NAME = "JET PROPULSION LABORATORY"
PRODUCER_ID = JPL
PRODUCER_FULL_NAME = "Inst Lead Charles Elachi contact Bryan Stiles"
PRODUCT_ID = BITQI10S066_D271_T113S01_V02
PRODUCT_VERSION_ID = 02
INSTRUMENT_HOST_NAME = "CASSINI ORBITER"
INSTRUMENT_HOST_ID = CO
INSTRUMENT_NAME = "CASSINI RADAR"
INSTRUMENT_ID = RADAR
TARGET_NAME = TITAN
START_TIME = 2015-271T21:18:36.434
STOP_TIME = 2015-271T21:44:10.867
SPACECRAFT_CLOCK_START_COUNT = 1822170106
SPACECRAFT_CLOCK_STOP_COUNT = 1822171640
PRODUCT_CREATION_TIME = 2016-004T23:10:50.000
SOURCE_PRODUCT_ID = LBDR_14_D271_V02
MISSION_PHASE_NAME = TOUR
MISSION_NAME = "CASSINI-HUYGENS"
SOFTWARE_VERSION_ID = "V1.0"
/* DESCRIPTION OF COMPRESSED AND UNCOMPRESSED FILES */
OBJECT = COMPRESSED_FILE
  FILE_NAME = "BITQI10S066_D271_T113S01_V02.ZIP"
  RECORD_TYPE = UNDEFINED
  ENCODING_TYPE = ZIP
  INTERCHANGE_FORMAT = BINARY
  UNCOMPRESSED_FILE_NAME = "BITQI10S066_D271_T113S01_V02.IMG"
  REQUIRED_STORAGE_BYTES = 722226176
  ^DESCRIPTION = "SOFTWARE/SOFTINFO.TXT"
END_OBJECT = COMPRESSED_FILE
OBJECT = UNCOMPRESSED_FILE
  FILE_NAME = "BITQI10S066_D271_T113S01_V02.IMG"
  RECORD_TYPE = FIXED_LENGTH
  RECORD_BYTES = 19456
  FILE_RECORDS = 37121
  LABEL_RECORDS = 1
  /* POINTERS TO START RECORDS OF OBJECTS IN FILE */
  ^IMAGE = ("BITQI10S066_D271_T113S01_V02.IMG", 2)
  /* DESCRIPTION OF OBJECTS CONTAINED IN FILE */
  OBJECT = IMAGE
    LINES = 37120
    LINE_SAMPLES = 4864
    SAMPLE_TYPE = "PC_REAL"
    SAMPLE_BITS = 32
    CHECKSUM = 000000000
    SCALING_FACTOR = 1.00000000
    OFFSET = 0.00000000
    MISSING_CONSTANT = "16#FF7FFFFB#"
    NOTE = "The data values in this file are the ordinary latitudes in the body fixed coordinate system for Titan."
  END_OBJECT = IMAGE
  OBJECT = IMAGE_MAP_PROJECTION
    ^DATA_SET_MAP_PROJECTION = "DSMAP.CAT"
    MAP_PROJECTION_TYPE = "OBLIQUE CYLINDRICAL"
    A_AXIS_RADIUS = 2575.000000
    B_AXIS_RADIUS = 2575.000000
    C_AXIS_RADIUS = 2575.000000
    FIRST_STANDARD_PARALLEL = "N/A"
    SECOND_STANDARD_PARALLEL = "N/A"
    POSITIVE_LONGITUDE_DIRECTION = WEST
    CENTER_LATITUDE = 0.000000
    CENTER_LONGITUDE = 0.000000
    REFERENCE_LATITUDE = -0.790255
    REFERENCE_LONGITUDE = 61.378690
    LINE_FIRST_PIXEL = 1
    LINE_LAST_PIXEL = 37120
    SAMPLE_FIRST_PIXEL = 1
    SAMPLE_LAST_PIXEL = 4864
    MAP_PROJECTION_ROTATION = 90.0
    MAP_RESOLUTION = 256.0
    MAP_SCALE = 0.17555558
    MAXIMUM_LATITUDE = -0.15028469
    MINIMUM_LATITUDE = -19.78887987
    EASTERNMOST_LONGITUDE = 353.12954910
    WESTERNMOST_LONGITUDE = 138.64520627
    LINE_PROJECTION_OFFSET = 19711.500
    SAMPLE_PROJECTION_OFFSET = 4863.500
    OBLIQUE_PROJ_POLE_LATITUDE = 89.209167
    OBLIQUE_PROJ_POLE_LONGITUDE = 59.187515
    OBLIQUE_PROJ_POLE_ROTATION = 357.809034
    OBLIQUE_PROJ_X_AXIS_VECTOR = ( 0.47897281, -0.87772138, -0.01379211 )
    OBLIQUE_PROJ_Y_AXIS_VECTOR = ( 0.87780127, 0.47902470, -0.00052766 )
    OBLIQUE_PROJ_Z_AXIS_VECTOR = ( 0.00706990, -0.01185400, 0.99990475 )
    LOOK_DIRECTION = RIGHT
    COORDINATE_SYSTEM_TYPE = "BODY-FIXED ROTATING"
    COORDINATE_SYSTEM_NAME = "PLANETOGRAPHIC"
  END_OBJECT = IMAGE_MAP_PROJECTION
END_OBJECT = UNCOMPRESSED_FILE
END
