PDS_VERSION_ID = PDS3
/* PRODUCT DESCRIPTION */
DATA_SET_ID = "CO-SSA-RADAR-5-BIDR-V1.0"
DATA_SET_NAME = "CASSINI ORBITER SSA RADAR 5 BIDR V1.0"
PRODUCER_INSTITUTION_NAME = "U.S.G.S. FLAGSTAFF"
PRODUCER_ID = USGS
PRODUCER_FULL_NAME = "RANDOLPH L. KIRK"
PRODUCT_ID = "BIBQD04S130_D271_T113S02_V02"
PRODUCT_VERSION_ID = 02
INSTRUMENT_HOST_NAME = "CASSINI ORBITER"
INSTRUMENT_HOST_ID = CO
INSTRUMENT_NAME = "CASSINI RADAR"
INSTRUMENT_ID = RADAR
TARGET_NAME = TITAN
START_TIME = 2015-271T21:17:40.434
STOP_TIME = 2015-271T21:18:33.827
SPACECRAFT_CLOCK_START_COUNT = 1822170050
SPACECRAFT_CLOCK_STOP_COUNT = 1822170103
PRODUCT_CREATION_TIME = 2016-161T06:38:59.000
SOURCE_PRODUCT_ID = "LBDR_14_D271_V02"
MISSION_PHASE_NAME = TOUR
MISSION_NAME = "CASSINI-HUYGENS"
SOFTWARE_VERSION_ID = "V1.0"
/* DESCRIPTION OF COMPRESSED AND UNCOMPRESSED FILES */
OBJECT = COMPRESSED_FILE
  FILE_NAME = "BIBQD04S130_D271_T113S02_V02.ZIP"
  RECORD_TYPE = UNDEFINED
  ENCODING_TYPE = ZIP
  INTERCHANGE_FORMAT = BINARY
  UNCOMPRESSED_FILE_NAME = "BIBQD04S130_D271_T113S02_V02.IMG"
  REQUIRED_STORAGE_BYTES = 152280
  ^DESCRIPTION = "SOFTWARE/SOFTINFO.TXT"
END_OBJECT = COMPRESSED_FILE
OBJECT = UNCOMPRESSED_FILE
  FILE_NAME = "BIBQD04S130_D271_T113S02_V02.IMG"
  RECORD_TYPE = FIXED_LENGTH
  RECORD_BYTES = 376
  FILE_RECORDS = 405
  LABEL_RECORDS = 13
  /* POINTERS TO START RECORDS OF OBJECTS IN FILE */
  ^IMAGE = ("BIBQD04S130_D271_T113S02_V02.IMG", 14)
  /* DESCRIPTION OF OBJECTS CONTAINED IN FILE */
  OBJECT = IMAGE
    LINES = 392
    LINE_SAMPLES = 376
    SAMPLE_TYPE = "UNSIGNED_INTEGER"
    SAMPLE_BITS = 8
    CHECKSUM = 103610
    SCALING_FACTOR = 1.0000012E-01
    OFFSET = -2.0100010E+01
    MISSING_CONSTANT = 0
    NOTE = "The data values in this file are Synthetic Aperture Radar (SAR) normalized backscatter cross-section values in logarithmic form. The observed values have been corrected for incidence-angle effects and converted to decibels (db). The raw backscatter values have been multiplied by the function f(I), where I is the incidence angle and f(I) = 0.2907/(f1(I)+f2(I)+f3(I)), for f1(I)=2.8126*(cos(I)^4+893.9677*sin(I)^2)^(-1.5), f2(I)=0.5824*(cos(I)^4+34.1366*sin(I)^2)^(-1.5), and f3(I)=0.3767*cos(I)^1.9782. The corresponding decibel value is db = 10 log10 (cross-section * f(I)). The scaling between raw data number and db is specified by the SCALING_FACTOR and OFFSET."
  END_OBJECT = IMAGE
  OBJECT = IMAGE_MAP_PROJECTION
    ^DATA_SET_MAP_PROJECTION = "DSMAP.CAT"
    MAP_PROJECTION_TYPE = "OBLIQUE CYLINDRICAL"
    FIRST_STANDARD_PARALLEL = "N/A"
    SECOND_STANDARD_PARALLEL = "N/A"
    A_AXIS_RADIUS = 2575.0000000
    B_AXIS_RADIUS = 2575.0000000
    C_AXIS_RADIUS = 2575.0000000
    POSITIVE_LONGITUDE_DIRECTION = WEST
    CENTER_LATITUDE = 0.000000
    CENTER_LONGITUDE = 0.000000
    REFERENCE_LATITUDE = -0.7902550
    REFERENCE_LONGITUDE = 61.3786900
    LINE_FIRST_PIXEL = 1
    LINE_LAST_PIXEL = 392
    SAMPLE_FIRST_PIXEL = 1
    SAMPLE_LAST_PIXEL = 376
    MAP_PROJECTION_ROTATION = 90.0000000
    MAP_RESOLUTION = 8.0000000
    MAP_SCALE = 5.6177785
    MAXIMUM_LATITUDE = 20.0656182
    MINIMUM_LATITUDE = -27.5420501
    EASTERNMOST_LONGITUDE = 105.1781327
    WESTERNMOST_LONGITUDE = 154.7750416
    LINE_PROJECTION_OFFSET = 743.5000000
    SAMPLE_PROJECTION_OFFSET = 215.5000000
    OBLIQUE_PROJ_POLE_LATITUDE = 89.209167
    OBLIQUE_PROJ_POLE_LONGITUDE = 59.187515
    OBLIQUE_PROJ_POLE_ROTATION = 357.809034
    OBLIQUE_PROJ_X_AXIS_VECTOR = (0.47897281,-0.87772138,-0.01379211)
    OBLIQUE_PROJ_Y_AXIS_VECTOR = (0.87780127,0.47902470,-0.00052766)
    OBLIQUE_PROJ_Z_AXIS_VECTOR = (0.00706990,-0.01185400,0.99990475)
    LOOK_DIRECTION = RIGHT
    COORDINATE_SYSTEM_NAME = "PLANETOGRAPHIC"
    COORDINATE_SYSTEM_TYPE = "BODY-FIXED ROTATING"
  END_OBJECT = IMAGE_MAP_PROJECTION
END_OBJECT = UNCOMPRESSED_FILE
END
