PDS_VERSION_ID = PDS3
/* PRODUCT DESCRIPTION */
DATA_SET_ID = "CO-SSA-RADAR-5-BIDR-V1.0"
DATA_SET_NAME = "CASSINI ORBITER SSA RADAR 5 BIDR V1.0"
PRODUCER_INSTITUTION_NAME = "JET PROPULSION LABORATORY"
PRODUCER_ID = JPL
PRODUCER_FULL_NAME = "Inst Lead Charles Elachi contact Bryan Stiles"
PRODUCT_ID = BIEQH76N178_D120_T025S06_V03
PRODUCT_VERSION_ID = 03
INSTRUMENT_HOST_NAME = "CASSINI ORBITER"
INSTRUMENT_HOST_ID = CO
INSTRUMENT_NAME = "CASSINI RADAR"
INSTRUMENT_ID = RADAR
TARGET_NAME = TITAN
START_TIME = 2007-053T04:21:29.428
STOP_TIME = 2007-053T04:25:53.277
SPACECRAFT_CLOCK_START_COUNT = 1550811280
SPACECRAFT_CLOCK_STOP_COUNT = 1550811544
PRODUCT_CREATION_TIME = 2016-097T01:22:26.000
SOURCE_PRODUCT_ID = LBDR_14_D120_V03
MISSION_PHASE_NAME = TOUR
MISSION_NAME = "CASSINI-HUYGENS"
SOFTWARE_VERSION_ID = "V1.0"
/* DESCRIPTION OF COMPRESSED AND UNCOMPRESSED FILES */
OBJECT = COMPRESSED_FILE
  FILE_NAME = "BIEQH76N178_D120_T025S06_V03.ZIP"
  RECORD_TYPE = UNDEFINED
  ENCODING_TYPE = ZIP
  INTERCHANGE_FORMAT = BINARY
  UNCOMPRESSED_FILE_NAME = "BIEQH76N178_D120_T025S06_V03.IMG"
  REQUIRED_STORAGE_BYTES = 212692480
  ^DESCRIPTION = "SOFTWARE/SOFTINFO.TXT"
END_OBJECT = COMPRESSED_FILE
OBJECT = UNCOMPRESSED_FILE
  FILE_NAME = "BIEQH76N178_D120_T025S06_V03.IMG"
  RECORD_TYPE = FIXED_LENGTH
  RECORD_BYTES = 28160
  FILE_RECORDS = 7553
  LABEL_RECORDS = 1
  /* POINTERS TO START RECORDS OF OBJECTS IN FILE */
  ^IMAGE = ("BIEQH76N178_D120_T025S06_V03.IMG", 2)
  /* DESCRIPTION OF OBJECTS CONTAINED IN FILE */
  OBJECT = IMAGE
    LINES = 7552
    LINE_SAMPLES = 7040
    SAMPLE_TYPE = "PC_REAL"
    SAMPLE_BITS = 32
    CHECKSUM = 0
    SCALING_FACTOR = 1.00000000
    OFFSET = 0.00000000
    MISSING_CONSTANT = "16#FF7FFFFB#"
    NOTE = "The data values in this file are the incidence angles between the look vector and the surface normal at each pixel."
  END_OBJECT = IMAGE
  OBJECT = IMAGE_MAP_PROJECTION
    ^DATA_SET_MAP_PROJECTION = "DSMAP.CAT"
    MAP_PROJECTION_TYPE = "OBLIQUE CYLINDRICAL"
    A_AXIS_RADIUS = 2575.000000
    B_AXIS_RADIUS = 2575.000000
    C_AXIS_RADIUS = 2575.000000
    FIRST_STANDARD_PARALLEL = "N/A"
    SECOND_STANDARD_PARALLEL = "N/A"
    POSITIVE_LONGITUDE_DIRECTION = WEST
    CENTER_LATITUDE = 0.000000
    CENTER_LONGITUDE = 0.000000
    REFERENCE_LATITUDE = 30.417704
    REFERENCE_LONGITUDE = 16.083215
    LINE_FIRST_PIXEL = 1
    LINE_LAST_PIXEL = 7552
    SAMPLE_FIRST_PIXEL = 1
    SAMPLE_LAST_PIXEL = 7040
    MAP_PROJECTION_ROTATION = 90.0
    MAP_RESOLUTION = 128.0
    MAP_SCALE = 0.35111116
    MAXIMUM_LATITUDE = 89.99582848
    MINIMUM_LATITUDE = 42.107377900
    EASTERNMOST_LONGITUDE = 0.0000000000
    WESTERNMOST_LONGITUDE = 360.00000000
    LINE_PROJECTION_OFFSET = -5377.500
    SAMPLE_PROJECTION_OFFSET = 383.500
    OBLIQUE_PROJ_POLE_LATITUDE = 17.993259
    OBLIQUE_PROJ_POLE_LONGITUDE = 117.076146
    OBLIQUE_PROJ_POLE_ROTATION = 122.163374
    OBLIQUE_PROJ_X_AXIS_VECTOR = ( 0.82860491, -0.23890158, 0.50630025 )
    OBLIQUE_PROJ_Y_AXIS_VECTOR = ( -0.35496516, 0.47514422, 0.80513210 )
    OBLIQUE_PROJ_Z_AXIS_VECTOR = ( -0.43291297, -0.84685536, 0.30890510 )
    LOOK_DIRECTION = LEFT
    COORDINATE_SYSTEM_TYPE = "BODY-FIXED ROTATING"
    COORDINATE_SYSTEM_NAME = "PLANETOGRAPHIC"
  END_OBJECT = IMAGE_MAP_PROJECTION
END_OBJECT = UNCOMPRESSED_FILE
END
