PDS_VERSION_ID = PDS3
/* PRODUCT DESCRIPTION */
DATA_SET_ID = "CO-SSA-RADAR-5-BIDR-V1.0"
DATA_SET_NAME = "CASSINI ORBITER SSA RADAR 5 BIDR V1.0"
PRODUCER_INSTITUTION_NAME = "JET PROPULSION LABORATORY"
PRODUCER_ID = JPL
PRODUCER_FULL_NAME = "Inst Lead Charles Elachi contact Bryan Stiles"
PRODUCT_ID = BIFQI49N071_D035_T00AS01_V03
PRODUCT_VERSION_ID = 03
INSTRUMENT_HOST_NAME = "CASSINI ORBITER"
INSTRUMENT_HOST_ID = CO
INSTRUMENT_NAME = "CASSINI RADAR"
INSTRUMENT_ID = RADAR
TARGET_NAME = TITAN
START_TIME = 2004-300T15:26:07.678
STOP_TIME = 2004-300T15:49:08.325
SPACECRAFT_CLOCK_START_COUNT = 1477497089
SPACECRAFT_CLOCK_STOP_COUNT = 1477498469
PRODUCT_CREATION_TIME = 2013-318T00:22:01.000
SOURCE_PRODUCT_ID = LBDR_14_D035_V03
MISSION_PHASE_NAME = TOUR
MISSION_NAME = "CASSINI-HUYGENS"
SOFTWARE_VERSION_ID = "V1.0"
/* DESCRIPTION OF COMPRESSED AND UNCOMPRESSED FILES */
OBJECT = COMPRESSED_FILE
  FILE_NAME = "BIFQI49N071_D035_T00AS01_V03.ZIP"
  RECORD_TYPE = UNDEFINED
  ENCODING_TYPE = ZIP
  INTERCHANGE_FORMAT = BINARY
  UNCOMPRESSED_FILE_NAME = "BIFQI49N071_D035_T00AS01_V03.IMG"
  REQUIRED_STORAGE_BYTES = 432029696
  ^DESCRIPTION = "SOFTWARE/SOFTINFO.TXT"
END_OBJECT = COMPRESSED_FILE
OBJECT = UNCOMPRESSED_FILE
  FILE_NAME = "BIFQI49N071_D035_T00AS01_V03.IMG"
  RECORD_TYPE = FIXED_LENGTH
  RECORD_BYTES = 16384
  FILE_RECORDS = 26369
  LABEL_RECORDS = 1
  /* POINTERS TO START RECORDS OF OBJECTS IN FILE */
  ^IMAGE = ("BIFQI49N071_D035_T00AS01_V03.IMG", 2)
  /* DESCRIPTION OF OBJECTS CONTAINED IN FILE */
  OBJECT = IMAGE
    LINES = 26368
    LINE_SAMPLES = 4096
    SAMPLE_TYPE = "PC_REAL"
    SAMPLE_BITS = 32
    CHECKSUM = 000000000
    SCALING_FACTOR = 1.00000000
    OFFSET = 0.00000000
    MISSING_CONSTANT = "16#FF7FFFFB#"
    NOTE = "The data values in this file are Synthetic Aperture Radar (SAR) normalized backscatter cross-section values. The values are physical scale (not in dB) and have been corrected for incidence-angle effects and biases due to thermal and quantization noise have been removed. The raw backscatter values have been multiplied by the function f(I), where I is the incidence angle and f(I) = 0.2907/(f1(I)+f2(I)+f3(I)), for f1(I)=2.8126*(cos(I)^4+893.9677*sin(I)^2)^(-1.5), f2(I)=0.5824*(cos(I)^4+34.1366*sin(I)^2)^(-1.5), and f3(I)=0.3767*cos(I)^1.9782."
  END_OBJECT = IMAGE
  OBJECT = IMAGE_MAP_PROJECTION
    ^DATA_SET_MAP_PROJECTION = "DSMAP.CAT"
    MAP_PROJECTION_TYPE = "OBLIQUE CYLINDRICAL"
    A_AXIS_RADIUS = 2575.000000
    B_AXIS_RADIUS = 2575.000000
    C_AXIS_RADIUS = 2575.000000
    FIRST_STANDARD_PARALLEL = "N/A"
    SECOND_STANDARD_PARALLEL = "N/A"
    POSITIVE_LONGITUDE_DIRECTION = WEST
    CENTER_LATITUDE = 0.000000
    CENTER_LONGITUDE = 0.000000
    REFERENCE_LATITUDE = 38.860703
    REFERENCE_LONGITUDE = 88.732321
    LINE_FIRST_PIXEL = 1
    LINE_LAST_PIXEL = 26368
    SAMPLE_FIRST_PIXEL = 1
    SAMPLE_LAST_PIXEL = 4096
    MAP_PROJECTION_ROTATION = 90.0
    MAP_RESOLUTION = 256.0
    MAP_SCALE = 0.17555558
    MAXIMUM_LATITUDE = 56.86850084
    MINIMUM_LATITUDE = 20.55355182
    EASTERNMOST_LONGITUDE = 357.89825582
    WESTERNMOST_LONGITUDE = 137.57468919
    LINE_PROJECTION_OFFSET = 9471.500
    SAMPLE_PROJECTION_OFFSET = 255.500
    OBLIQUE_PROJ_POLE_LATITUDE = 48.129546
    OBLIQUE_PROJ_POLE_LONGITUDE = 242.755801
    OBLIQUE_PROJ_POLE_ROTATION = 160.058458
    OBLIQUE_PROJ_X_AXIS_VECTOR = ( 0.01722689, -0.77848308, 0.62742915 )
    OBLIQUE_PROJ_Y_AXIS_VECTOR = ( 0.95202107, 0.20453735, 0.22764085 )
    OBLIQUE_PROJ_Z_AXIS_VECTOR = ( -0.30554724, 0.59340423, 0.74465583 )
    LOOK_DIRECTION = LEFT
    COORDINATE_SYSTEM_TYPE = "BODY-FIXED ROTATING"
    COORDINATE_SYSTEM_NAME = "PLANETOGRAPHIC"
  END_OBJECT = IMAGE_MAP_PROJECTION
END_OBJECT = UNCOMPRESSED_FILE
END
